Workbook

Sheet Sazetak
A1: REPUBLIKA HRVATSKA
A2: ZADARSKA ŽUPANIJA
A3: OSNOVNA ŠKOLA BENKOVAC, Antuna Mihanovića 21b, 23420 Benkovac
A4: OIB: 73294343358 · RKP: 21238
A6: SAŽETAK I. IZMJENA I DOPUNA FINANCIJSKOG PLANA OŠ BENKOVAC ZA 2024. GODINU
A7: Opći dio – A. Račun prihoda i rashoda, B. Račun financiranja, C. Preneseni višak/manjak (u EUR)
A9: Oznaka | B9: Opis | C9: Izvorni plan 2024. | D9: Povećanje/ smanjenje | E9: I. rebalans 2024. | F9: Indeks (rebalans / plan)
A10: A. RAČUN PRIHODA I RASHODA
A11: 6 | B11: Prihodi poslovanja | C11: =Prihodi_ekonomska!C10 -> 2906494.6 | D11: =E11-C11 -> 328852.89 | E11: =Prihodi_ekonomska!E10 -> 3235347.5 | F11: =IF(C11=0,"-",E11/C11*100) -> 111.31442
A12: 7 | B12: Prihodi od prodaje nefinancijske imovine | C12: 0 | D12: =E12-C12 -> 0 | E12: 0 | F12: -
B13: UKUPNI PRIHODI | C13: =C11+C12 -> 2906494.6 | D13: =E13-C13 -> 328852.89 | E13: =E11+E12 -> 3235347.5 | F13: =IF(C13=0,"-",E13/C13*100) -> 111.31442
A14: 3 | B14: Rashodi poslovanja | C14: =Rashodi_ekonomska!C10 -> 2864604.5 | D14: =E14-C14 -> 323924.86 | E14: =Rashodi_ekonomska!E10 -> 3188529.4 | F14: =IF(C14=0,"-",E14/C14*100) -> 111.30784
A15: 4 | B15: Rashodi za nabavu nefinancijske imovine | C15: =Rashodi_ekonomska!C55 -> 63015.01 | D15: =E15-C15 -> 37885.56 | E15: =Rashodi_ekonomska!E55 -> 100900.57 | F15: =IF(C15=0,"-",E15/C15*100) -> 160.12149
B16: UKUPNI RASHODI | C16: =C14+C15 -> 2927619.6 | D16: =E16-C16 -> 361810.42 | E16: =E14+E15 -> 3289430 | F16: =IF(C16=0,"-",E16/C16*100) -> 112.35852
B17: RAZLIKA – VIŠAK / MANJAK | C17: =ROUND(C13-C16,2) -> -21125 | D17: =E17-C17 -> -32957.53 | E17: =ROUND(E13-E16,2) -> -54082.53 | F17: =IF(C17=0,"-",E17/C17*100) -> 256.01198
A19: B. RAČUN FINANCIRANJA
A20: 8 | B20: Primici od financijske imovine i zaduživanja | C20: 0 | D20: =E20-C20 -> 0 | E20: 0 | F20: -
A21: 5 | B21: Izdaci za financijsku imovinu i otplate zajmova | C21: 0 | D21: =E21-C21 -> 0 | E21: 0 | F21: -
B22: NETO FINANCIRANJE | C22: =C20-C21 -> 0 | D22: =E22-C22 -> 0 | E22: =E20-E21 -> 0 | F22: =IF(C22=0,"-",E22/C22*100) -> -
A24: C. RASPOLOŽIVA SREDSTVA IZ PRETHODNIH GODINA
A25: 9 | B25: Ukupan donos viška/manjka iz prethodnih godina – dio koji će se rasporediti | C25: =Prihodi_ekonomska!C31 -> 21125 | D25: =E25-C25 -> 32957.53 | E25: =Prihodi_ekonomska!E31 -> 54082.53 | F25: =IF(C25=0,"-",E25/C25*100) -> 256.01198
B27: VIŠAK/MANJAK + NETO FINANCIRANJE + PRENESENI REZULTAT | C27: =ROUND(C17+C22+C25,2) -> 0 | D27: =E27-C27 -> 0 | E27: =ROUND(E17+E22+E25,2) -> 0 | F27: =IF(C27=0,"-",E27/C27*100) -> -
B29: Kontrola: ukupni prihodi (po izvorima) − ukupni rashodi (po izvorima) | C29: =Po_izvorima!C33-Po_izvorima!C59 -> 0 | D29: =E29-C29 -> 0 | E29: =Po_izvorima!E33-Po_izvorima!E59 -> 0 | F29: =IF(C29=0,"-",E29/C29*100) -> -
B30: Kontrola: posebni dio − rashodi ekonomska | C30: =Posebni_dio!D10-Rashodi_ekonomska!C67 -> 0 | D30: =E30-C30 -> 0 | E30: =Posebni_dio!F10-Rashodi_ekonomska!E67 -> 0 | F30: =IF(C30=0,"-",E30/C30*100) -> -
A32: Napomene:
A33: – Podaci su preuzeti iz financijskog plana 2024.–2026. i Prijedloga I. rebalansa 2024. iz sustava riznice Zadarske županije.
A34: – U PDF-u rebalansa (rashodi) stupac "plan prije rebalansa" zbraja se na 2.922.119,56 EUR jer izostavlja dvije stavke izvornog plana iz izvora 42034 (32224 Namirnice 4.000,00 i 32322 Usluge održavanja opreme 1.500,00). Ovdje su uključene, pa izvorni plan iznosi 2.927.619,56 EUR.
A35: – Promjene konta prihoda kod Inkluzije (63311343101 → 63911; 63811343202 → 63931) i ukidanje izvora 195062 iskazane su kao smanjenje na starom i povećanje na novom kontu.
A36: – Projekcije za 2025. i 2026. ovdje se ne prikazuju; u PDF-u rebalansa projekcije prihoda (3.371.665,73 / 3.455.957,38) i rashoda (3.258.193,77 / 3.339.648,67) nisu usklađene.
A37: – Plavi brojevi u listovima *_detalji su unosi; svi ostali iznosi su formule (SUMIFS) nad tim listovima. Zeleno = poveznica na drugi list.
A38: – Kontrolni redovi moraju iskazivati 0 (nulu).
B40: Predsjednik Školskog odbora: | D40: Ravnatelj:
B42: Vedran Utković, prof. | D42: Tonći Kuman, prof.

Sheet Prihodi_ekonomska
A1: REPUBLIKA HRVATSKA
A2: ZADARSKA ŽUPANIJA
A3: OSNOVNA ŠKOLA BENKOVAC, Antuna Mihanovića 21b, 23420 Benkovac
A4: OIB: 73294343358 · RKP: 21238
A6: OPĆI DIO – PRIHODI I PRIMICI PREMA EKONOMSKOJ KLASIFIKACIJI
A7: I. izmjene i dopune financijskog plana za 2024. godinu (u EUR)
A9: Konto | B9: Naziv | C9: Izvorni plan 2024. | D9: Povećanje/ smanjenje | E9: I. rebalans 2024. | F9: Indeks (rebalans / plan)
A10: 6 | B10: Prihodi poslovanja | C10: =SUMIFS(Prihodi_detalji!$J$10:$J$25,Prihodi_detalji!$B$10:$B$25,"6") -> 2906494.6 | D10: =E10-C10 -> 328852.89 | E10: =SUMIFS(Prihodi_detalji!$L$10:$L$25,Prihodi_detalji!$B$10:$B$25,"6") -> 3235347.5 | F10: =IF(C10=0,"-",E10/C10*100) -> 111.31442
A11: 63 | B11: Pomoći iz inozemstva i od subjekata unutar općeg proračuna | C11: =SUMIFS(Prihodi_detalji!$J$10:$J$25,Prihodi_detalji!$C$10:$C$25,"63") -> 2349503.1 | D11: =E11-C11 -> 379215.26 | E11: =SUMIFS(Prihodi_detalji!$L$10:$L$25,Prihodi_detalji!$C$10:$C$25,"63") -> 2728718.4 | F11: =IF(C11=0,"-",E11/C11*100) -> 116.14023
A12: 633 | B12: Pomoći proračunu iz drugih proračuna | C12: =SUMIFS(Prihodi_detalji!$J$10:$J$25,Prihodi_detalji!$D$10:$D$25,"633") -> 9745.31 | D12: =E12-C12 -> -9745.31 | E12: =SUMIFS(Prihodi_detalji!$L$10:$L$25,Prihodi_detalji!$D$10:$D$25,"633") -> 0 | F12: =IF(C12=0,"-",E12/C12*100) -> 0
A13: 6331 | B13: Tekuće pomoći proračunu iz drugih proračuna | C13: =SUMIFS(Prihodi_detalji!$J$10:$J$25,Prihodi_detalji!$E$10:$E$25,"6331") -> 9745.31 | D13: =E13-C13 -> -9745.31 | E13: =SUMIFS(Prihodi_detalji!$L$10:$L$25,Prihodi_detalji!$E$10:$E$25,"6331") -> 0 | F13: =IF(C13=0,"-",E13/C13*100) -> 0
A14: 636 | B14: Pomoći proračunskim korisnicima iz proračuna koji im nije nadležan | C14: =SUMIFS(Prihodi_detalji!$J$10:$J$25,Prihodi_detalji!$D$10:$D$25,"636") -> 2304145.6 | D14: =E14-C14 -> 373484.36 | E14: =SUMIFS(Prihodi_detalji!$L$10:$L$25,Prihodi_detalji!$D$10:$D$25,"636") -> 2677630 | F14: =IF(C14=0,"-",E14/C14*100) -> 116.20923
A15: 6361 | B15: Tekuće pomoći proračunskim korisnicima iz proračuna koji im nije nadležan | C15: =SUMIFS(Prihodi_detalji!$J$10:$J$25,Prihodi_detalji!$E$10:$E$25,"6361") -> 2272345.6 | D15: =E15-C15 -> 373484.36 | E15: =SUMIFS(Prihodi_detalji!$L$10:$L$25,Prihodi_detalji!$E$10:$E$25,"6361") -> 2645830 | F15: =IF(C15=0,"-",E15/C15*100) -> 116.43607
A16: 6362 | B16: Kapitalne pomoći proračunskim korisnicima iz proračuna koji im nije nadležan | C16: =SUMIFS(Prihodi_detalji!$J$10:$J$25,Prihodi_detalji!$E$10:$E$25,"6362") -> 31800 | D16: =E16-C16 -> 0 | E16: =SUMIFS(Prihodi_detalji!$L$10:$L$25,Prihodi_detalji!$E$10:$E$25,"6362") -> 31800 | F16: =IF(C16=0,"-",E16/C16*100) -> 100
A17: 638 | B17: Pomoći temeljem prijenosa EU sredstava | C17: =SUMIFS(Prihodi_detalji!$J$10:$J$25,Prihodi_detalji!$D$10:$D$25,"638") -> 35612.16 | D17: =E17-C17 -> -35612.16 | E17: =SUMIFS(Prihodi_detalji!$L$10:$L$25,Prihodi_detalji!$D$10:$D$25,"638") -> 0 | F17: =IF(C17=0,"-",E17/C17*100) -> 0
A18: 6381 | B18: Tekuće pomoći temeljem prijenosa EU sredstava | C18: =SUMIFS(Prihodi_detalji!$J$10:$J$25,Prihodi_detalji!$E$10:$E$25,"6381") -> 35612.16 | D18: =E18-C18 -> -35612.16 | E18: =SUMIFS(Prihodi_detalji!$L$10:$L$25,Prihodi_detalji!$E$10:$E$25,"6381") -> 0 | F18: =IF(C18=0,"-",E18/C18*100) -> 0
A19: 639 | B19: Prijenosi između proračunskih korisnika istog proračuna | C19: =SUMIFS(Prihodi_detalji!$J$10:$J$25,Prihodi_detalji!$D$10:$D$25,"639") -> 0 | D19: =E19-C19 -> 51088.37 | E19: =SUMIFS(Prihodi_detalji!$L$10:$L$25,Prihodi_detalji!$D$10:$D$25,"639") -> 51088.37 | F19: =IF(C19=0,"-",E19/C19*100) -> -
A20: 6391 | B20: Tekući prijenosi između proračunskih korisnika istog proračuna | C20: =SUMIFS(Prihodi_detalji!$J$10:$J$25,Prihodi_detalji!$E$10:$E$25,"6391") -> 0 | D20: =E20-C20 -> 15476.21 | E20: =SUMIFS(Prihodi_detalji!$L$10:$L$25,Prihodi_detalji!$E$10:$E$25,"6391") -> 15476.21 | F20: =IF(C20=0,"-",E20/C20*100) -> -
A21: 6393 | B21: Tekući prijenosi između PK istog proračuna temeljem prijenosa EU sredstava | C21: =SUMIFS(Prihodi_detalji!$J$10:$J$25,Prihodi_detalji!$E$10:$E$25,"6393") -> 0 | D21: =E21-C21 -> 35612.16 | E21: =SUMIFS(Prihodi_detalji!$L$10:$L$25,Prihodi_detalji!$E$10:$E$25,"6393") -> 35612.16 | F21: =IF(C21=0,"-",E21/C21*100) -> -
A22: 65 | B22: Prihodi od upravnih i administrativnih pristojbi, pristojbi po posebnim propisima i naknada | C22: =SUMIFS(Prihodi_detalji!$J$10:$J$25,Prihodi_detalji!$C$10:$C$25,"65") -> 11100 | D22: =E22-C22 -> 6550 | E22: =SUMIFS(Prihodi_detalji!$L$10:$L$25,Prihodi_detalji!$C$10:$C$25,"65") -> 17650 | F22: =IF(C22=0,"-",E22/C22*100) -> 159.00901
A23: 652 | B23: Prihodi po posebnim propisima | C23: =SUMIFS(Prihodi_detalji!$J$10:$J$25,Prihodi_detalji!$D$10:$D$25,"652") -> 11100 | D23: =E23-C23 -> 6550 | E23: =SUMIFS(Prihodi_detalji!$L$10:$L$25,Prihodi_detalji!$D$10:$D$25,"652") -> 17650 | F23: =IF(C23=0,"-",E23/C23*100) -> 159.00901
A24: 6526 | B24: Ostali nespomenuti prihodi | C24: =SUMIFS(Prihodi_detalji!$J$10:$J$25,Prihodi_detalji!$E$10:$E$25,"6526") -> 11100 | D24: =E24-C24 -> 6550 | E24: =SUMIFS(Prihodi_detalji!$L$10:$L$25,Prihodi_detalji!$E$10:$E$25,"6526") -> 17650 | F24: =IF(C24=0,"-",E24/C24*100) -> 159.00901
A25: 66 | B25: Prihodi od prodaje proizvoda i robe te pruženih usluga i prihodi od donacija | C25: =SUMIFS(Prihodi_detalji!$J$10:$J$25,Prihodi_detalji!$C$10:$C$25,"66") -> 21748.07 | D25: =E25-C25 -> -200 | E25: =SUMIFS(Prihodi_detalji!$L$10:$L$25,Prihodi_detalji!$C$10:$C$25,"66") -> 21548.07 | F25: =IF(C25=0,"-",E25/C25*100) -> 99.080378
A26: 661 | B26: Prihodi od prodaje proizvoda i robe te pruženih usluga | C26: =SUMIFS(Prihodi_detalji!$J$10:$J$25,Prihodi_detalji!$D$10:$D$25,"661") -> 21748.07 | D26: =E26-C26 -> -200 | E26: =SUMIFS(Prihodi_detalji!$L$10:$L$25,Prihodi_detalji!$D$10:$D$25,"661") -> 21548.07 | F26: =IF(C26=0,"-",E26/C26*100) -> 99.080378
A27: 6615 | B27: Prihodi od pruženih usluga | C27: =SUMIFS(Prihodi_detalji!$J$10:$J$25,Prihodi_detalji!$E$10:$E$25,"6615") -> 21748.07 | D27: =E27-C27 -> -200 | E27: =SUMIFS(Prihodi_detalji!$L$10:$L$25,Prihodi_detalji!$E$10:$E$25,"6615") -> 21548.07 | F27: =IF(C27=0,"-",E27/C27*100) -> 99.080378
A28: 67 | B28: Prihodi iz nadležnog proračuna i od HZZO-a temeljem ugovornih obveza | C28: =SUMIFS(Prihodi_detalji!$J$10:$J$25,Prihodi_detalji!$C$10:$C$25,"67") -> 524143.38 | D28: =E28-C28 -> -56712.37 | E28: =SUMIFS(Prihodi_detalji!$L$10:$L$25,Prihodi_detalji!$C$10:$C$25,"67") -> 467431.01 | F28: =IF(C28=0,"-",E28/C28*100) -> 89.179989
A29: 671 | B29: Prihodi iz nadležnog proračuna za financiranje redovne djelatnosti proračunskih korisnika | C29: =SUMIFS(Prihodi_detalji!$J$10:$J$25,Prihodi_detalji!$D$10:$D$25,"671") -> 524143.38 | D29: =E29-C29 -> -56712.37 | E29: =SUMIFS(Prihodi_detalji!$L$10:$L$25,Prihodi_detalji!$D$10:$D$25,"671") -> 467431.01 | F29: =IF(C29=0,"-",E29/C29*100) -> 89.179989
A30: 6711 | B30: Prihodi iz nadležnog proračuna za financiranje rashoda poslovanja | C30: =SUMIFS(Prihodi_detalji!$J$10:$J$25,Prihodi_detalji!$E$10:$E$25,"6711") -> 524143.38 | D30: =E30-C30 -> -56712.37 | E30: =SUMIFS(Prihodi_detalji!$L$10:$L$25,Prihodi_detalji!$E$10:$E$25,"6711") -> 467431.01 | F30: =IF(C30=0,"-",E30/C30*100) -> 89.179989
A31: 9 | B31: Vlastiti izvori | C31: =SUMIFS(Prihodi_detalji!$J$10:$J$25,Prihodi_detalji!$B$10:$B$25,"9") -> 21125 | D31: =E31-C31 -> 32957.53 | E31: =SUMIFS(Prihodi_detalji!$L$10:$L$25,Prihodi_detalji!$B$10:$B$25,"9") -> 54082.53 | F31: =IF(C31=0,"-",E31/C31*100) -> 256.01198
A32: 92 | B32: Rezultat poslovanja | C32: =SUMIFS(Prihodi_detalji!$J$10:$J$25,Prihodi_detalji!$C$10:$C$25,"92") -> 21125 | D32: =E32-C32 -> 32957.53 | E32: =SUMIFS(Prihodi_detalji!$L$10:$L$25,Prihodi_detalji!$C$10:$C$25,"92") -> 54082.53 | F32: =IF(C32=0,"-",E32/C32*100) -> 256.01198
A33: 922 | B33: Višak/manjak prihoda | C33: =SUMIFS(Prihodi_detalji!$J$10:$J$25,Prihodi_detalji!$D$10:$D$25,"922") -> 21125 | D33: =E33-C33 -> 32957.53 | E33: =SUMIFS(Prihodi_detalji!$L$10:$L$25,Prihodi_detalji!$D$10:$D$25,"922") -> 54082.53 | F33: =IF(C33=0,"-",E33/C33*100) -> 256.01198
A34: 9221 | B34: Višak prihoda | C34: =SUMIFS(Prihodi_detalji!$J$10:$J$25,Prihodi_detalji!$E$10:$E$25,"9221") -> 21125 | D34: =E34-C34 -> 32957.53 | E34: =SUMIFS(Prihodi_detalji!$L$10:$L$25,Prihodi_detalji!$E$10:$E$25,"9221") -> 54082.53 | F34: =IF(C34=0,"-",E34/C34*100) -> 256.01198

Sheet Rashodi_ekonomska
A1: REPUBLIKA HRVATSKA
A2: ZADARSKA ŽUPANIJA
A3: OSNOVNA ŠKOLA BENKOVAC, Antuna Mihanovića 21b, 23420 Benkovac
A4: OIB: 73294343358 · RKP: 21238
A6: OPĆI DIO – RASHODI I IZDACI PREMA EKONOMSKOJ KLASIFIKACIJI
A7: I. izmjene i dopune financijskog plana za 2024. godinu (u EUR)
A9: Konto | B9: Naziv | C9: Izvorni plan 2024. | D9: Povećanje/ smanjenje | E9: I. rebalans 2024. | F9: Indeks (rebalans / plan)
A10: 3 | B10: Rashodi poslovanja | C10: =SUMIFS(Rashodi_detalji!$L$10:$L$85,Rashodi_detalji!$G$10:$G$85,"3") -> 2864604.5 | D10: =E10-C10 -> 323924.86 | E10: =SUMIFS(Rashodi_detalji!$N$10:$N$85,Rashodi_detalji!$G$10:$G$85,"3") -> 3188529.4 | F10: =IF(C10=0,"-",E10/C10*100) -> 111.30784
A11: 31 | B11: Rashodi za zaposlene | C11: =SUMIFS(Rashodi_detalji!$L$10:$L$85,Rashodi_detalji!$H$10:$H$85,"31") -> 2081637 | D11: =E11-C11 -> 363671.37 | E11: =SUMIFS(Rashodi_detalji!$N$10:$N$85,Rashodi_detalji!$H$10:$H$85,"31") -> 2445308.4 | F11: =IF(C11=0,"-",E11/C11*100) -> 117.47045
A12: 311 | B12: Plaće (bruto) | C12: =SUMIFS(Rashodi_detalji!$L$10:$L$85,Rashodi_detalji!$I$10:$I$85,"311") -> 1709304.3 | D12: =E12-C12 -> 284577.21 | E12: =SUMIFS(Rashodi_detalji!$N$10:$N$85,Rashodi_detalji!$I$10:$I$85,"311") -> 1993881.5 | F12: =IF(C12=0,"-",E12/C12*100) -> 116.64872
A13: 3111 | B13: Plaće za redovan rad | C13: =SUMIFS(Rashodi_detalji!$L$10:$L$85,Rashodi_detalji!$J$10:$J$85,"3111") -> 1709304.3 | D13: =E13-C13 -> 284577.21 | E13: =SUMIFS(Rashodi_detalji!$N$10:$N$85,Rashodi_detalji!$J$10:$J$85,"3111") -> 1993881.5 | F13: =IF(C13=0,"-",E13/C13*100) -> 116.64872
A14: 312 | B14: Ostali rashodi za zaposlene | C14: =SUMIFS(Rashodi_detalji!$L$10:$L$85,Rashodi_detalji!$I$10:$I$85,"312") -> 93043.63 | D14: =E14-C14 -> 19961.37 | E14: =SUMIFS(Rashodi_detalji!$N$10:$N$85,Rashodi_detalji!$I$10:$I$85,"312") -> 113005 | F14: =IF(C14=0,"-",E14/C14*100) -> 121.45377
A15: 3121 | B15: Ostali rashodi za zaposlene | C15: =SUMIFS(Rashodi_detalji!$L$10:$L$85,Rashodi_detalji!$J$10:$J$85,"3121") -> 93043.63 | D15: =E15-C15 -> 19961.37 | E15: =SUMIFS(Rashodi_detalji!$N$10:$N$85,Rashodi_detalji!$J$10:$J$85,"3121") -> 113005 | F15: =IF(C15=0,"-",E15/C15*100) -> 121.45377
A16: 313 | B16: Doprinosi na plaće | C16: =SUMIFS(Rashodi_detalji!$L$10:$L$85,Rashodi_detalji!$I$10:$I$85,"313") -> 279289.06 | D16: =E16-C16 -> 59132.79 | E16: =SUMIFS(Rashodi_detalji!$N$10:$N$85,Rashodi_detalji!$I$10:$I$85,"313") -> 338421.85 | F16: =IF(C16=0,"-",E16/C16*100) -> 121.17261
A17: 3132 | B17: Doprinosi za obvezno zdravstveno osiguranje | C17: =SUMIFS(Rashodi_detalji!$L$10:$L$85,Rashodi_detalji!$J$10:$J$85,"3132") -> 279289.06 | D17: =E17-C17 -> 59132.79 | E17: =SUMIFS(Rashodi_detalji!$N$10:$N$85,Rashodi_detalji!$J$10:$J$85,"3132") -> 338421.85 | F17: =IF(C17=0,"-",E17/C17*100) -> 121.17261
A18: 32 | B18: Materijalni rashodi | C18: =SUMIFS(Rashodi_detalji!$L$10:$L$85,Rashodi_detalji!$H$10:$H$85,"32") -> 736507.55 | D18: =E18-C18 -> -39946.51 | E18: =SUMIFS(Rashodi_detalji!$N$10:$N$85,Rashodi_detalji!$H$10:$H$85,"32") -> 696561.04 | F18: =IF(C18=0,"-",E18/C18*100) -> 94.576225
A19: 321 | B19: Naknade troškova zaposlenima | C19: =SUMIFS(Rashodi_detalji!$L$10:$L$85,Rashodi_detalji!$I$10:$I$85,"321") -> 151115.5 | D19: =E19-C19 -> 6184.5 | E19: =SUMIFS(Rashodi_detalji!$N$10:$N$85,Rashodi_detalji!$I$10:$I$85,"321") -> 157300 | F19: =IF(C19=0,"-",E19/C19*100) -> 104.09256
A20: 3211 | B20: Službena putovanja | C20: =SUMIFS(Rashodi_detalji!$L$10:$L$85,Rashodi_detalji!$J$10:$J$85,"3211") -> 3000 | D20: =E20-C20 -> 500 | E20: =SUMIFS(Rashodi_detalji!$N$10:$N$85,Rashodi_detalji!$J$10:$J$85,"3211") -> 3500 | F20: =IF(C20=0,"-",E20/C20*100) -> 116.66667
A21: 3212 | B21: Naknade za prijevoz, rad na terenu i odvojeni život | C21: =SUMIFS(Rashodi_detalji!$L$10:$L$85,Rashodi_detalji!$J$10:$J$85,"3212") -> 144815.5 | D21: =E21-C21 -> 4184.5 | E21: =SUMIFS(Rashodi_detalji!$N$10:$N$85,Rashodi_detalji!$J$10:$J$85,"3212") -> 149000 | F21: =IF(C21=0,"-",E21/C21*100) -> 102.88954
A22: 3213 | B22: Stručno usavršavanje zaposlenika | C22: =SUMIFS(Rashodi_detalji!$L$10:$L$85,Rashodi_detalji!$J$10:$J$85,"3213") -> 3300 | D22: =E22-C22 -> 500 | E22: =SUMIFS(Rashodi_detalji!$N$10:$N$85,Rashodi_detalji!$J$10:$J$85,"3213") -> 3800 | F22: =IF(C22=0,"-",E22/C22*100) -> 115.15152
A23: 3214 | B23: Ostale naknade troškova zaposlenima | C23: =SUMIFS(Rashodi_detalji!$L$10:$L$85,Rashodi_detalji!$J$10:$J$85,"3214") -> 0 | D23: =E23-C23 -> 1000 | E23: =SUMIFS(Rashodi_detalji!$N$10:$N$85,Rashodi_detalji!$J$10:$J$85,"3214") -> 1000 | F23: =IF(C23=0,"-",E23/C23*100) -> -
A24: 322 | B24: Rashodi za materijal i energiju | C24: =SUMIFS(Rashodi_detalji!$L$10:$L$85,Rashodi_detalji!$I$10:$I$85,"322") -> 202554 | D24: =E24-C24 -> -13489.05 | E24: =SUMIFS(Rashodi_detalji!$N$10:$N$85,Rashodi_detalji!$I$10:$I$85,"322") -> 189064.95 | F24: =IF(C24=0,"-",E24/C24*100) -> 93.340517
A25: 3221 | B25: Uredski materijal i ostali materijalni rashodi | C25: =SUMIFS(Rashodi_detalji!$L$10:$L$85,Rashodi_detalji!$J$10:$J$85,"3221") -> 7000 | D25: =E25-C25 -> 500 | E25: =SUMIFS(Rashodi_detalji!$N$10:$N$85,Rashodi_detalji!$J$10:$J$85,"3221") -> 7500 | F25: =IF(C25=0,"-",E25/C25*100) -> 107.14286
A26: 3222 | B26: Materijal i sirovine | C26: =SUMIFS(Rashodi_detalji!$L$10:$L$85,Rashodi_detalji!$J$10:$J$85,"3222") -> 113650 | D26: =E26-C26 -> 1750 | E26: =SUMIFS(Rashodi_detalji!$N$10:$N$85,Rashodi_detalji!$J$10:$J$85,"3222") -> 115400 | F26: =IF(C26=0,"-",E26/C26*100) -> 101.53982
A27: 3223 | B27: Energija | C27: =SUMIFS(Rashodi_detalji!$L$10:$L$85,Rashodi_detalji!$J$10:$J$85,"3223") -> 75000 | D27: =E27-C27 -> -16835.05 | E27: =SUMIFS(Rashodi_detalji!$N$10:$N$85,Rashodi_detalji!$J$10:$J$85,"3223") -> 58164.95 | F27: =IF(C27=0,"-",E27/C27*100) -> 77.553267
A28: 3224 | B28: Materijal i dijelovi za tekuće i investicijsko održavanje | C28: =SUMIFS(Rashodi_detalji!$L$10:$L$85,Rashodi_detalji!$J$10:$J$85,"3224") -> 5404 | D28: =E28-C28 -> 596 | E28: =SUMIFS(Rashodi_detalji!$N$10:$N$85,Rashodi_detalji!$J$10:$J$85,"3224") -> 6000 | F28: =IF(C28=0,"-",E28/C28*100) -> 111.02887
A29: 3225 | B29: Sitni inventar i auto gume | C29: =SUMIFS(Rashodi_detalji!$L$10:$L$85,Rashodi_detalji!$J$10:$J$85,"3225") -> 0 | D29: =E29-C29 -> 500 | E29: =SUMIFS(Rashodi_detalji!$N$10:$N$85,Rashodi_detalji!$J$10:$J$85,"3225") -> 500 | F29: =IF(C29=0,"-",E29/C29*100) -> -
A30: 3227 | B30: Službena, radna i zaštitna odjeća i obuća | C30: =SUMIFS(Rashodi_detalji!$L$10:$L$85,Rashodi_detalji!$J$10:$J$85,"3227") -> 1500 | D30: =E30-C30 -> 0 | E30: =SUMIFS(Rashodi_detalji!$N$10:$N$85,Rashodi_detalji!$J$10:$J$85,"3227") -> 1500 | F30: =IF(C30=0,"-",E30/C30*100) -> 100
A31: 323 | B31: Rashodi za usluge | C31: =SUMIFS(Rashodi_detalji!$L$10:$L$85,Rashodi_detalji!$I$10:$I$85,"323") -> 372138.05 | D31: =E31-C31 -> -32091.96 | E31: =SUMIFS(Rashodi_detalji!$N$10:$N$85,Rashodi_detalji!$I$10:$I$85,"323") -> 340046.09 | F31: =IF(C31=0,"-",E31/C31*100) -> 91.376329
A32: 3231 | B32: Usluge telefona, pošte i prijevoza | C32: =SUMIFS(Rashodi_detalji!$L$10:$L$85,Rashodi_detalji!$J$10:$J$85,"3231") -> 2500 | D32: =E32-C32 -> -300 | E32: =SUMIFS(Rashodi_detalji!$N$10:$N$85,Rashodi_detalji!$J$10:$J$85,"3231") -> 2200 | F32: =IF(C32=0,"-",E32/C32*100) -> 88
A33: 3232 | B33: Usluge tekućeg i investicijskog održavanja | C33: =SUMIFS(Rashodi_detalji!$L$10:$L$85,Rashodi_detalji!$J$10:$J$85,"3232") -> 8318.07 | D33: =E33-C33 -> 4898.02 | E33: =SUMIFS(Rashodi_detalji!$N$10:$N$85,Rashodi_detalji!$J$10:$J$85,"3232") -> 13216.09 | F33: =IF(C33=0,"-",E33/C33*100) -> 158.88409
A34: 3234 | B34: Komunalne usluge | C34: =SUMIFS(Rashodi_detalji!$L$10:$L$85,Rashodi_detalji!$J$10:$J$85,"3234") -> 22259.98 | D34: =E34-C34 -> 18740.02 | E34: =SUMIFS(Rashodi_detalji!$N$10:$N$85,Rashodi_detalji!$J$10:$J$85,"3234") -> 41000 | F34: =IF(C34=0,"-",E34/C34*100) -> 184.18705
A35: 3235 | B35: Zakupnine i najamnine | C35: =SUMIFS(Rashodi_detalji!$L$10:$L$85,Rashodi_detalji!$J$10:$J$85,"3235") -> 323700 | D35: =E35-C35 -> -57300 | E35: =SUMIFS(Rashodi_detalji!$N$10:$N$85,Rashodi_detalji!$J$10:$J$85,"3235") -> 266400 | F35: =IF(C35=0,"-",E35/C35*100) -> 82.298424
A36: 3236 | B36: Zdravstvene i veterinarske usluge | C36: =SUMIFS(Rashodi_detalji!$L$10:$L$85,Rashodi_detalji!$J$10:$J$85,"3236") -> 6500 | D36: =E36-C36 -> 800 | E36: =SUMIFS(Rashodi_detalji!$N$10:$N$85,Rashodi_detalji!$J$10:$J$85,"3236") -> 7300 | F36: =IF(C36=0,"-",E36/C36*100) -> 112.30769
A37: 3237 | B37: Intelektualne i osobne usluge | C37: =SUMIFS(Rashodi_detalji!$L$10:$L$85,Rashodi_detalji!$J$10:$J$85,"3237") -> 3100 | D37: =E37-C37 -> 600 | E37: =SUMIFS(Rashodi_detalji!$N$10:$N$85,Rashodi_detalji!$J$10:$J$85,"3237") -> 3700 | F37: =IF(C37=0,"-",E37/C37*100) -> 119.35484
A38: 3238 | B38: Računalne usluge | C38: =SUMIFS(Rashodi_detalji!$L$10:$L$85,Rashodi_detalji!$J$10:$J$85,"3238") -> 5360 | D38: =E38-C38 -> 470 | E38: =SUMIFS(Rashodi_detalji!$N$10:$N$85,Rashodi_detalji!$J$10:$J$85,"3238") -> 5830 | F38: =IF(C38=0,"-",E38/C38*100) -> 108.76866
A39: 3239 | B39: Ostale usluge | C39: =SUMIFS(Rashodi_detalji!$L$10:$L$85,Rashodi_detalji!$J$10:$J$85,"3239") -> 400 | D39: =E39-C39 -> 0 | E39: =SUMIFS(Rashodi_detalji!$N$10:$N$85,Rashodi_detalji!$J$10:$J$85,"3239") -> 400 | F39: =IF(C39=0,"-",E39/C39*100) -> 100
A40: 329 | B40: Ostali nespomenuti rashodi poslovanja | C40: =SUMIFS(Rashodi_detalji!$L$10:$L$85,Rashodi_detalji!$I$10:$I$85,"329") -> 10700 | D40: =E40-C40 -> -550 | E40: =SUMIFS(Rashodi_detalji!$N$10:$N$85,Rashodi_detalji!$I$10:$I$85,"329") -> 10150 | F40: =IF(C40=0,"-",E40/C40*100) -> 94.859813
A41: 3292 | B41: Premije osiguranja | C41: =SUMIFS(Rashodi_detalji!$L$10:$L$85,Rashodi_detalji!$J$10:$J$85,"3292") -> 2300 | D41: =E41-C41 -> -300 | E41: =SUMIFS(Rashodi_detalji!$N$10:$N$85,Rashodi_detalji!$J$10:$J$85,"3292") -> 2000 | F41: =IF(C41=0,"-",E41/C41*100) -> 86.956522
A42: 3293 | B42: Reprezentacija | C42: =SUMIFS(Rashodi_detalji!$L$10:$L$85,Rashodi_detalji!$J$10:$J$85,"3293") -> 2000 | D42: =E42-C42 -> -500 | E42: =SUMIFS(Rashodi_detalji!$N$10:$N$85,Rashodi_detalji!$J$10:$J$85,"3293") -> 1500 | F42: =IF(C42=0,"-",E42/C42*100) -> 75
A43: 3294 | B43: Članarine i norme | C43: =SUMIFS(Rashodi_detalji!$L$10:$L$85,Rashodi_detalji!$J$10:$J$85,"3294") -> 250 | D43: =E43-C43 -> 250 | E43: =SUMIFS(Rashodi_detalji!$N$10:$N$85,Rashodi_detalji!$J$10:$J$85,"3294") -> 500 | F43: =IF(C43=0,"-",E43/C43*100) -> 200
A44: 3295 | B44: Pristojbe i naknade | C44: =SUMIFS(Rashodi_detalji!$L$10:$L$85,Rashodi_detalji!$J$10:$J$85,"3295") -> 6150 | D44: =E44-C44 -> 0 | E44: =SUMIFS(Rashodi_detalji!$N$10:$N$85,Rashodi_detalji!$J$10:$J$85,"3295") -> 6150 | F44: =IF(C44=0,"-",E44/C44*100) -> 100
A45: 34 | B45: Financijski rashodi | C45: =SUMIFS(Rashodi_detalji!$L$10:$L$85,Rashodi_detalji!$H$10:$H$85,"34") -> 1100 | D45: =E45-C45 -> 200 | E45: =SUMIFS(Rashodi_detalji!$N$10:$N$85,Rashodi_detalji!$H$10:$H$85,"34") -> 1300 | F45: =IF(C45=0,"-",E45/C45*100) -> 118.18182
A46: 343 | B46: Ostali financijski rashodi | C46: =SUMIFS(Rashodi_detalji!$L$10:$L$85,Rashodi_detalji!$I$10:$I$85,"343") -> 1100 | D46: =E46-C46 -> 200 | E46: =SUMIFS(Rashodi_detalji!$N$10:$N$85,Rashodi_detalji!$I$10:$I$85,"343") -> 1300 | F46: =IF(C46=0,"-",E46/C46*100) -> 118.18182
A47: 3431 | B47: Bankarske usluge i usluge platnog prometa | C47: =SUMIFS(Rashodi_detalji!$L$10:$L$85,Rashodi_detalji!$J$10:$J$85,"3431") -> 600 | D47: =E47-C47 -> 200 | E47: =SUMIFS(Rashodi_detalji!$N$10:$N$85,Rashodi_detalji!$J$10:$J$85,"3431") -> 800 | F47: =IF(C47=0,"-",E47/C47*100) -> 133.33333
A48: 3433 | B48: Zatezne kamate | C48: =SUMIFS(Rashodi_detalji!$L$10:$L$85,Rashodi_detalji!$J$10:$J$85,"3433") -> 500 | D48: =E48-C48 -> 0 | E48: =SUMIFS(Rashodi_detalji!$N$10:$N$85,Rashodi_detalji!$J$10:$J$85,"3433") -> 500 | F48: =IF(C48=0,"-",E48/C48*100) -> 100
A49: 37 | B49: Naknade građanima i kućanstvima na temelju osiguranja i druge naknade | C49: =SUMIFS(Rashodi_detalji!$L$10:$L$85,Rashodi_detalji!$H$10:$H$85,"37") -> 44000 | D49: =E49-C49 -> 0 | E49: =SUMIFS(Rashodi_detalji!$N$10:$N$85,Rashodi_detalji!$H$10:$H$85,"37") -> 44000 | F49: =IF(C49=0,"-",E49/C49*100) -> 100
A50: 372 | B50: Ostale naknade građanima i kućanstvima iz proračuna | C50: =SUMIFS(Rashodi_detalji!$L$10:$L$85,Rashodi_detalji!$I$10:$I$85,"372") -> 44000 | D50: =E50-C50 -> 0 | E50: =SUMIFS(Rashodi_detalji!$N$10:$N$85,Rashodi_detalji!$I$10:$I$85,"372") -> 44000 | F50: =IF(C50=0,"-",E50/C50*100) -> 100
A51: 3722 | B51: Naknade građanima i kućanstvima u naravi | C51: =SUMIFS(Rashodi_detalji!$L$10:$L$85,Rashodi_detalji!$J$10:$J$85,"3722") -> 44000 | D51: =E51-C51 -> 0 | E51: =SUMIFS(Rashodi_detalji!$N$10:$N$85,Rashodi_detalji!$J$10:$J$85,"3722") -> 44000 | F51: =IF(C51=0,"-",E51/C51*100) -> 100
A52: 38 | B52: Ostali rashodi | C52: =SUMIFS(Rashodi_detalji!$L$10:$L$85,Rashodi_detalji!$H$10:$H$85,"38") -> 1360 | D52: =E52-C52 -> 0 | E52: =SUMIFS(Rashodi_detalji!$N$10:$N$85,Rashodi_detalji!$H$10:$H$85,"38") -> 1360 | F52: =IF(C52=0,"-",E52/C52*100) -> 100
A53: 381 | B53: Tekuće donacije | C53: =SUMIFS(Rashodi_detalji!$L$10:$L$85,Rashodi_detalji!$I$10:$I$85,"381") -> 1360 | D53: =E53-C53 -> 0 | E53: =SUMIFS(Rashodi_detalji!$N$10:$N$85,Rashodi_detalji!$I$10:$I$85,"381") -> 1360 | F53: =IF(C53=0,"-",E53/C53*100) -> 100
A54: 3812 | B54: Tekuće donacije u naravi | C54: =SUMIFS(Rashodi_detalji!$L$10:$L$85,Rashodi_detalji!$J$10:$J$85,"3812") -> 1360 | D54: =E54-C54 -> 0 | E54: =SUMIFS(Rashodi_detalji!$N$10:$N$85,Rashodi_detalji!$J$10:$J$85,"3812") -> 1360 | F54: =IF(C54=0,"-",E54/C54*100) -> 100
A55: 4 | B55: Rashodi za nabavu nefinancijske imovine | C55: =SUMIFS(Rashodi_detalji!$L$10:$L$85,Rashodi_detalji!$G$10:$G$85,"4") -> 63015.01 | D55: =E55-C55 -> 37885.56 | E55: =SUMIFS(Rashodi_detalji!$N$10:$N$85,Rashodi_detalji!$G$10:$G$85,"4") -> 100900.57 | F55: =IF(C55=0,"-",E55/C55*100) -> 160.12149
A56: 42 | B56: Rashodi za nabavu proizvedene dugotrajne imovine | C56: =SUMIFS(Rashodi_detalji!$L$10:$L$85,Rashodi_detalji!$H$10:$H$85,"42") -> 51070.01 | D56: =E56-C56 -> 36963.23 | E56: =SUMIFS(Rashodi_detalji!$N$10:$N$85,Rashodi_detalji!$H$10:$H$85,"42") -> 88033.24 | F56: =IF(C56=0,"-",E56/C56*100) -> 172.37757
A57: 422 | B57: Postrojenja i oprema | C57: =SUMIFS(Rashodi_detalji!$L$10:$L$85,Rashodi_detalji!$I$10:$I$85,"422") -> 4000 | D57: =E57-C57 -> 5907.43 | E57: =SUMIFS(Rashodi_detalji!$N$10:$N$85,Rashodi_detalji!$I$10:$I$85,"422") -> 9907.43 | F57: =IF(C57=0,"-",E57/C57*100) -> 247.68575
A58: 4221 | B58: Uredska oprema i namještaj | C58: =SUMIFS(Rashodi_detalji!$L$10:$L$85,Rashodi_detalji!$J$10:$J$85,"4221") -> 2000 | D58: =E58-C58 -> 3500 | E58: =SUMIFS(Rashodi_detalji!$N$10:$N$85,Rashodi_detalji!$J$10:$J$85,"4221") -> 5500 | F58: =IF(C58=0,"-",E58/C58*100) -> 275
A59: 4227 | B59: Uređaji, strojevi i oprema za ostale namjene | C59: =SUMIFS(Rashodi_detalji!$L$10:$L$85,Rashodi_detalji!$J$10:$J$85,"4227") -> 2000 | D59: =E59-C59 -> 2407.43 | E59: =SUMIFS(Rashodi_detalji!$N$10:$N$85,Rashodi_detalji!$J$10:$J$85,"4227") -> 4407.43 | F59: =IF(C59=0,"-",E59/C59*100) -> 220.3715
A60: 424 | B60: Knjige, umjetnička djela i ostale izložbene vrijednosti | C60: =SUMIFS(Rashodi_detalji!$L$10:$L$85,Rashodi_detalji!$I$10:$I$85,"424") -> 31800 | D60: =E60-C60 -> 31055.8 | E60: =SUMIFS(Rashodi_detalji!$N$10:$N$85,Rashodi_detalji!$I$10:$I$85,"424") -> 62855.8 | F60: =IF(C60=0,"-",E60/C60*100) -> 197.65975
A61: 4241 | B61: Knjige | C61: =SUMIFS(Rashodi_detalji!$L$10:$L$85,Rashodi_detalji!$J$10:$J$85,"4241") -> 31800 | D61: =E61-C61 -> 31055.8 | E61: =SUMIFS(Rashodi_detalji!$N$10:$N$85,Rashodi_detalji!$J$10:$J$85,"4241") -> 62855.8 | F61: =IF(C61=0,"-",E61/C61*100) -> 197.65975
A62: 426 | B62: Nematerijalna proizvedena imovina | C62: =SUMIFS(Rashodi_detalji!$L$10:$L$85,Rashodi_detalji!$I$10:$I$85,"426") -> 15270.01 | D62: =E62-C62 -> 0 | E62: =SUMIFS(Rashodi_detalji!$N$10:$N$85,Rashodi_detalji!$I$10:$I$85,"426") -> 15270.01 | F62: =IF(C62=0,"-",E62/C62*100) -> 100
A63: 4264 | B63: Ostala nematerijalna proizvedena imovina | C63: =SUMIFS(Rashodi_detalji!$L$10:$L$85,Rashodi_detalji!$J$10:$J$85,"4264") -> 15270.01 | D63: =E63-C63 -> 0 | E63: =SUMIFS(Rashodi_detalji!$N$10:$N$85,Rashodi_detalji!$J$10:$J$85,"4264") -> 15270.01 | F63: =IF(C63=0,"-",E63/C63*100) -> 100
A64: 45 | B64: Rashodi za dodatna ulaganja na nefinancijskoj imovini | C64: =SUMIFS(Rashodi_detalji!$L$10:$L$85,Rashodi_detalji!$H$10:$H$85,"45") -> 11945 | D64: =E64-C64 -> 922.33 | E64: =SUMIFS(Rashodi_detalji!$N$10:$N$85,Rashodi_detalji!$H$10:$H$85,"45") -> 12867.33 | F64: =IF(C64=0,"-",E64/C64*100) -> 107.72147
A65: 451 | B65: Dodatna ulaganja na građevinskim objektima | C65: =SUMIFS(Rashodi_detalji!$L$10:$L$85,Rashodi_detalji!$I$10:$I$85,"451") -> 11945 | D65: =E65-C65 -> 922.33 | E65: =SUMIFS(Rashodi_detalji!$N$10:$N$85,Rashodi_detalji!$I$10:$I$85,"451") -> 12867.33 | F65: =IF(C65=0,"-",E65/C65*100) -> 107.72147
A66: 4511 | B66: Dodatna ulaganja na građevinskim objektima | C66: =SUMIFS(Rashodi_detalji!$L$10:$L$85,Rashodi_detalji!$J$10:$J$85,"4511") -> 11945 | D66: =E66-C66 -> 922.33 | E66: =SUMIFS(Rashodi_detalji!$N$10:$N$85,Rashodi_detalji!$J$10:$J$85,"4511") -> 12867.33 | F66: =IF(C66=0,"-",E66/C66*100) -> 107.72147
B67: UKUPNO RASHODI | C67: =C10+C55 -> 2927619.6 | D67: =E67-C67 -> 361810.42 | E67: =E10+E55 -> 3289430 | F67: =IF(C67=0,"-",E67/C67*100) -> 112.35852

Sheet Po_izvorima
A1: REPUBLIKA HRVATSKA
A2: ZADARSKA ŽUPANIJA
A3: OSNOVNA ŠKOLA BENKOVAC, Antuna Mihanovića 21b, 23420 Benkovac
A4: OIB: 73294343358 · RKP: 21238
A6: OPĆI DIO – PRIHODI I RASHODI PREMA IZVORIMA FINANCIRANJA
A7: I. izmjene i dopune financijskog plana za 2024. godinu (u EUR)
A9: Izvor | B9: PRIHODI I PRIMICI | C9: Izvorni plan 2024. | D9: Povećanje/ smanjenje | E9: I. rebalans 2024. | F9: Indeks (rebalans / plan)
A10: 11 | B10: Opći prihodi i primici | C10: =SUMIFS(Prihodi_detalji!$J$10:$J$25,Prihodi_detalji!$F$10:$F$25,"11") -> 55479.85 | D10: =E10-C10 -> 6790.16 | E10: =SUMIFS(Prihodi_detalji!$L$10:$L$25,Prihodi_detalji!$F$10:$F$25,"11") -> 62270.01 | F10: =IF(C10=0,"-",E10/C10*100) -> 112.23897
A11: 110 | B11: Opći prihodi i primici – Zadarska županija | C11: =SUMIFS(Prihodi_detalji!$J$10:$J$25,Prihodi_detalji!$G$10:$G$25,"110") -> 55479.85 | D11: =E11-C11 -> 6790.16 | E11: =SUMIFS(Prihodi_detalji!$L$10:$L$25,Prihodi_detalji!$G$10:$G$25,"110") -> 62270.01 | F11: =IF(C11=0,"-",E11/C11*100) -> 112.23897
A12: 19 | B12: Opći prihodi i primici – EU projekti (ZŽ) | C12: =SUMIFS(Prihodi_detalji!$J$10:$J$25,Prihodi_detalji!$F$10:$F$25,"19") -> 18349.55 | D12: =E12-C12 -> -18349.55 | E12: =SUMIFS(Prihodi_detalji!$L$10:$L$25,Prihodi_detalji!$F$10:$F$25,"19") -> 0 | F12: =IF(C12=0,"-",E12/C12*100) -> 0
A13: 195062 | B13: Projekt Inkluzija (ZŽ) | C13: =SUMIFS(Prihodi_detalji!$J$10:$J$25,Prihodi_detalji!$G$10:$G$25,"195062") -> 18349.55 | D13: =E13-C13 -> -18349.55 | E13: =SUMIFS(Prihodi_detalji!$L$10:$L$25,Prihodi_detalji!$G$10:$G$25,"195062") -> 0 | F13: =IF(C13=0,"-",E13/C13*100) -> 0
A14: 31 | B14: Vlastiti prihodi | C14: =SUMIFS(Prihodi_detalji!$J$10:$J$25,Prihodi_detalji!$F$10:$F$25,"31") -> 21748.07 | D14: =E14-C14 -> -200 | E14: =SUMIFS(Prihodi_detalji!$L$10:$L$25,Prihodi_detalji!$F$10:$F$25,"31") -> 21548.07 | F14: =IF(C14=0,"-",E14/C14*100) -> 99.080378
A15: 31 | B15: Vlastiti prihodi – korisnici | C15: =SUMIFS(Prihodi_detalji!$J$10:$J$25,Prihodi_detalji!$G$10:$G$25,"31") -> 21748.07 | D15: =E15-C15 -> -200 | E15: =SUMIFS(Prihodi_detalji!$L$10:$L$25,Prihodi_detalji!$G$10:$G$25,"31") -> 21548.07 | F15: =IF(C15=0,"-",E15/C15*100) -> 99.080378
A16: 41 | B16: Prihodi za posebne namjene | C16: =SUMIFS(Prihodi_detalji!$J$10:$J$25,Prihodi_detalji!$F$10:$F$25,"41") -> 11100 | D16: =E16-C16 -> 6550 | E16: =SUMIFS(Prihodi_detalji!$L$10:$L$25,Prihodi_detalji!$F$10:$F$25,"41") -> 17650 | F16: =IF(C16=0,"-",E16/C16*100) -> 159.00901
A17: 41 | B17: Prihodi za posebne namjene | C17: =SUMIFS(Prihodi_detalji!$J$10:$J$25,Prihodi_detalji!$G$10:$G$25,"41") -> 11100 | D17: =E17-C17 -> 6550 | E17: =SUMIFS(Prihodi_detalji!$L$10:$L$25,Prihodi_detalji!$G$10:$G$25,"41") -> 17650 | F17: =IF(C17=0,"-",E17/C17*100) -> 159.00901
A18: 42 | B18: Višak prihoda iz prethodnih godina | C18: =SUMIFS(Prihodi_detalji!$J$10:$J$25,Prihodi_detalji!$F$10:$F$25,"42") -> 21125 | D18: =E18-C18 -> 32957.53 | E18: =SUMIFS(Prihodi_detalji!$L$10:$L$25,Prihodi_detalji!$F$10:$F$25,"42") -> 54082.53 | F18: =IF(C18=0,"-",E18/C18*100) -> 256.01198
A19: 42034 | B19: Višak prihoda OŠ | C19: =SUMIFS(Prihodi_detalji!$J$10:$J$25,Prihodi_detalji!$G$10:$G$25,"42034") -> 21125 | D19: =E19-C19 -> 32957.53 | E19: =SUMIFS(Prihodi_detalji!$L$10:$L$25,Prihodi_detalji!$G$10:$G$25,"42034") -> 54082.53 | F19: =IF(C19=0,"-",E19/C19*100) -> 256.01198
A20: 45 | B20: Decentralizirane funkcije (F.P. i dod. udio u porezu na dohodak) | C20: =SUMIFS(Prihodi_detalji!$J$10:$J$25,Prihodi_detalji!$F$10:$F$25,"45") -> 450313.98 | D20: =E20-C20 -> -45152.98 | E20: =SUMIFS(Prihodi_detalji!$L$10:$L$25,Prihodi_detalji!$F$10:$F$25,"45") -> 405161 | F20: =IF(C20=0,"-",E20/C20*100) -> 89.973001
A21: 451 | B21: F.P. i dod. udio u por. na dohodak | C21: =SUMIFS(Prihodi_detalji!$J$10:$J$25,Prihodi_detalji!$G$10:$G$25,"451") -> 450313.98 | D21: =E21-C21 -> -45152.98 | E21: =SUMIFS(Prihodi_detalji!$L$10:$L$25,Prihodi_detalji!$G$10:$G$25,"451") -> 405161 | F21: =IF(C21=0,"-",E21/C21*100) -> 89.973001
A22: 51 | B22: Pomoći iz državnog proračuna | C22: =SUMIFS(Prihodi_detalji!$J$10:$J$25,Prihodi_detalji!$F$10:$F$25,"51") -> 2256284.5 | D22: =E22-C22 -> 376001.73 | E22: =SUMIFS(Prihodi_detalji!$L$10:$L$25,Prihodi_detalji!$F$10:$F$25,"51") -> 2632286.2 | F22: =IF(C22=0,"-",E22/C22*100) -> 116.66464
A23: 5103 | B23: MZO – ostali rashodi | C23: =SUMIFS(Prihodi_detalji!$J$10:$J$25,Prihodi_detalji!$G$10:$G$25,"5103") -> 3500 | D23: =E23-C23 -> 0 | E23: =SUMIFS(Prihodi_detalji!$L$10:$L$25,Prihodi_detalji!$G$10:$G$25,"5103") -> 3500 | F23: =IF(C23=0,"-",E23/C23*100) -> 100
A24: 51034 | B24: MZO – udžbenici | C24: =SUMIFS(Prihodi_detalji!$J$10:$J$25,Prihodi_detalji!$G$10:$G$25,"51034") -> 31800 | D24: =E24-C24 -> 0 | E24: =SUMIFS(Prihodi_detalji!$L$10:$L$25,Prihodi_detalji!$G$10:$G$25,"51034") -> 31800 | F24: =IF(C24=0,"-",E24/C24*100) -> 100
A25: 51035 | B25: MZO – plaće | C25: =SUMIFS(Prihodi_detalji!$J$10:$J$25,Prihodi_detalji!$G$10:$G$25,"51035") -> 2109879.2 | D25: =E25-C25 -> 370270.83 | E25: =SUMIFS(Prihodi_detalji!$L$10:$L$25,Prihodi_detalji!$G$10:$G$25,"51035") -> 2480150 | F25: =IF(C25=0,"-",E25/C25*100) -> 117.54939
A26: 51038 | B26: MZO – Inkluzija | C26: =SUMIFS(Prihodi_detalji!$J$10:$J$25,Prihodi_detalji!$G$10:$G$25,"51038") -> 9745.31 | D26: =E26-C26 -> 5730.9 | E26: =SUMIFS(Prihodi_detalji!$L$10:$L$25,Prihodi_detalji!$G$10:$G$25,"51038") -> 15476.21 | F26: =IF(C26=0,"-",E26/C26*100) -> 158.80675
A27: 510391 | B27: MZO – prehrana za učenike | C27: =SUMIFS(Prihodi_detalji!$J$10:$J$25,Prihodi_detalji!$G$10:$G$25,"510391") -> 100000 | D27: =E27-C27 -> 0 | E27: =SUMIFS(Prihodi_detalji!$L$10:$L$25,Prihodi_detalji!$G$10:$G$25,"510391") -> 100000 | F27: =IF(C27=0,"-",E27/C27*100) -> 100
A28: 511903 | B28: MRMSOSP – menstrualne hig. potrepštine | C28: =SUMIFS(Prihodi_detalji!$J$10:$J$25,Prihodi_detalji!$G$10:$G$25,"511903") -> 1360 | D28: =E28-C28 -> 0 | E28: =SUMIFS(Prihodi_detalji!$L$10:$L$25,Prihodi_detalji!$G$10:$G$25,"511903") -> 1360 | F28: =IF(C28=0,"-",E28/C28*100) -> 100
A29: 53 | B29: Pomoći iz proračuna JLS | C29: =SUMIFS(Prihodi_detalji!$J$10:$J$25,Prihodi_detalji!$F$10:$F$25,"53") -> 57606.47 | D29: =E29-C29 -> 3213.53 | E29: =SUMIFS(Prihodi_detalji!$L$10:$L$25,Prihodi_detalji!$F$10:$F$25,"53") -> 60820 | F29: =IF(C29=0,"-",E29/C29*100) -> 105.57842
A30: 53 | B30: Proračun JLS – Grad Benkovac | C30: =SUMIFS(Prihodi_detalji!$J$10:$J$25,Prihodi_detalji!$G$10:$G$25,"53") -> 57606.47 | D30: =E30-C30 -> 3213.53 | E30: =SUMIFS(Prihodi_detalji!$L$10:$L$25,Prihodi_detalji!$G$10:$G$25,"53") -> 60820 | F30: =IF(C30=0,"-",E30/C30*100) -> 105.57842
A31: 54 | B31: Pomoći iz inozemstva (EU) | C31: =SUMIFS(Prihodi_detalji!$J$10:$J$25,Prihodi_detalji!$F$10:$F$25,"54") -> 35612.16 | D31: =E31-C31 -> 0 | E31: =SUMIFS(Prihodi_detalji!$L$10:$L$25,Prihodi_detalji!$F$10:$F$25,"54") -> 35612.16 | F31: =IF(C31=0,"-",E31/C31*100) -> 100
A32: 540099 | B32: EU – Inkluzija, korak bliže društvu bez prepreka | C32: =SUMIFS(Prihodi_detalji!$J$10:$J$25,Prihodi_detalji!$G$10:$G$25,"540099") -> 35612.16 | D32: =E32-C32 -> 0 | E32: =SUMIFS(Prihodi_detalji!$L$10:$L$25,Prihodi_detalji!$G$10:$G$25,"540099") -> 35612.16 | F32: =IF(C32=0,"-",E32/C32*100) -> 100
B33: UKUPNO PRIHODI I PRIMICI | C33: =C10+C12+C14+C16+C18+C20+C22+C29+C31 -> 2927619.6 | D33: =E33-C33 -> 361810.42 | E33: =E10+E12+E14+E16+E18+E20+E22+E29+E31 -> 3289430 | F33: =IF(C33=0,"-",E33/C33*100) -> 112.35852
A35: Izvor | B35: RASHODI I IZDACI | C35: Izvorni plan 2024. | D35: Povećanje/ smanjenje | E35: I. rebalans 2024. | F35: Indeks (rebalans / plan)
A36: 11 | B36: Opći prihodi i primici | C36: =SUMIFS(Rashodi_detalji!$L$10:$L$85,Rashodi_detalji!$D$10:$D$85,"11") -> 55479.85 | D36: =E36-C36 -> 6790.16 | E36: =SUMIFS(Rashodi_detalji!$N$10:$N$85,Rashodi_detalji!$D$10:$D$85,"11") -> 62270.01 | F36: =IF(C36=0,"-",E36/C36*100) -> 112.23897
A37: 110 | B37: Opći prihodi i primici – Zadarska županija | C37: =SUMIFS(Rashodi_detalji!$L$10:$L$85,Rashodi_detalji!$E$10:$E$85,"110") -> 55479.85 | D37: =E37-C37 -> 6790.16 | E37: =SUMIFS(Rashodi_detalji!$N$10:$N$85,Rashodi_detalji!$E$10:$E$85,"110") -> 62270.01 | F37: =IF(C37=0,"-",E37/C37*100) -> 112.23897
A38: 19 | B38: Opći prihodi i primici – EU projekti (ZŽ) | C38: =SUMIFS(Rashodi_detalji!$L$10:$L$85,Rashodi_detalji!$D$10:$D$85,"19") -> 18349.55 | D38: =E38-C38 -> -18349.55 | E38: =SUMIFS(Rashodi_detalji!$N$10:$N$85,Rashodi_detalji!$D$10:$D$85,"19") -> 0 | F38: =IF(C38=0,"-",E38/C38*100) -> 0
A39: 195062 | B39: Projekt Inkluzija (ZŽ) | C39: =SUMIFS(Rashodi_detalji!$L$10:$L$85,Rashodi_detalji!$E$10:$E$85,"195062") -> 18349.55 | D39: =E39-C39 -> -18349.55 | E39: =SUMIFS(Rashodi_detalji!$N$10:$N$85,Rashodi_detalji!$E$10:$E$85,"195062") -> 0 | F39: =IF(C39=0,"-",E39/C39*100) -> 0
A40: 31 | B40: Vlastiti prihodi | C40: =SUMIFS(Rashodi_detalji!$L$10:$L$85,Rashodi_detalji!$D$10:$D$85,"31") -> 21748.07 | D40: =E40-C40 -> -200 | E40: =SUMIFS(Rashodi_detalji!$N$10:$N$85,Rashodi_detalji!$D$10:$D$85,"31") -> 21548.07 | F40: =IF(C40=0,"-",E40/C40*100) -> 99.080378
A41: 31 | B41: Vlastiti prihodi – korisnici | C41: =SUMIFS(Rashodi_detalji!$L$10:$L$85,Rashodi_detalji!$E$10:$E$85,"31") -> 21748.07 | D41: =E41-C41 -> -200 | E41: =SUMIFS(Rashodi_detalji!$N$10:$N$85,Rashodi_detalji!$E$10:$E$85,"31") -> 21548.07 | F41: =IF(C41=0,"-",E41/C41*100) -> 99.080378
A42: 41 | B42: Prihodi za posebne namjene | C42: =SUMIFS(Rashodi_detalji!$L$10:$L$85,Rashodi_detalji!$D$10:$D$85,"41") -> 11100 | D42: =E42-C42 -> 6550 | E42: =SUMIFS(Rashodi_detalji!$N$10:$N$85,Rashodi_detalji!$D$10:$D$85,"41") -> 17650 | F42: =IF(C42=0,"-",E42/C42*100) -> 159.00901
A43: 41 | B43: Prihodi za posebne namjene | C43: =SUMIFS(Rashodi_detalji!$L$10:$L$85,Rashodi_detalji!$E$10:$E$85,"41") -> 11100 | D43: =E43-C43 -> 6550 | E43: =SUMIFS(Rashodi_detalji!$N$10:$N$85,Rashodi_detalji!$E$10:$E$85,"41") -> 17650 | F43: =IF(C43=0,"-",E43/C43*100) -> 159.00901
A44: 42 | B44: Višak prihoda iz prethodnih godina | C44: =SUMIFS(Rashodi_detalji!$L$10:$L$85,Rashodi_detalji!$D$10:$D$85,"42") -> 21125 | D44: =E44-C44 -> 32957.53 | E44: =SUMIFS(Rashodi_detalji!$N$10:$N$85,Rashodi_detalji!$D$10:$D$85,"42") -> 54082.53 | F44: =IF(C44=0,"-",E44/C44*100) -> 256.01198
A45: 42034 | B45: Višak prihoda OŠ | C45: =SUMIFS(Rashodi_detalji!$L$10:$L$85,Rashodi_detalji!$E$10:$E$85,"42034") -> 21125 | D45: =E45-C45 -> 32957.53 | E45: =SUMIFS(Rashodi_detalji!$N$10:$N$85,Rashodi_detalji!$E$10:$E$85,"42034") -> 54082.53 | F45: =IF(C45=0,"-",E45/C45*100) -> 256.01198
A46: 45 | B46: Decentralizirane funkcije (F.P. i dod. udio u porezu na dohodak) | C46: =SUMIFS(Rashodi_detalji!$L$10:$L$85,Rashodi_detalji!$D$10:$D$85,"45") -> 450313.98 | D46: =E46-C46 -> -45152.98 | E46: =SUMIFS(Rashodi_detalji!$N$10:$N$85,Rashodi_detalji!$D$10:$D$85,"45") -> 405161 | F46: =IF(C46=0,"-",E46/C46*100) -> 89.973001
A47: 451 | B47: F.P. i dod. udio u por. na dohodak | C47: =SUMIFS(Rashodi_detalji!$L$10:$L$85,Rashodi_detalji!$E$10:$E$85,"451") -> 450313.98 | D47: =E47-C47 -> -45152.98 | E47: =SUMIFS(Rashodi_detalji!$N$10:$N$85,Rashodi_detalji!$E$10:$E$85,"451") -> 405161 | F47: =IF(C47=0,"-",E47/C47*100) -> 89.973001
A48: 51 | B48: Pomoći iz državnog proračuna | C48: =SUMIFS(Rashodi_detalji!$L$10:$L$85,Rashodi_detalji!$D$10:$D$85,"51") -> 2256284.5 | D48: =E48-C48 -> 376001.73 | E48: =SUMIFS(Rashodi_detalji!$N$10:$N$85,Rashodi_detalji!$D$10:$D$85,"51") -> 2632286.2 | F48: =IF(C48=0,"-",E48/C48*100) -> 116.66464
A49: 5103 | B49: MZO – ostali rashodi | C49: =SUMIFS(Rashodi_detalji!$L$10:$L$85,Rashodi_detalji!$E$10:$E$85,"5103") -> 3500 | D49: =E49-C49 -> 0 | E49: =SUMIFS(Rashodi_detalji!$N$10:$N$85,Rashodi_detalji!$E$10:$E$85,"5103") -> 3500 | F49: =IF(C49=0,"-",E49/C49*100) -> 100
A50: 51034 | B50: MZO – udžbenici | C50: =SUMIFS(Rashodi_detalji!$L$10:$L$85,Rashodi_detalji!$E$10:$E$85,"51034") -> 31800 | D50: =E50-C50 -> 0 | E50: =SUMIFS(Rashodi_detalji!$N$10:$N$85,Rashodi_detalji!$E$10:$E$85,"51034") -> 31800 | F50: =IF(C50=0,"-",E50/C50*100) -> 100
A51: 51035 | B51: MZO – plaće | C51: =SUMIFS(Rashodi_detalji!$L$10:$L$85,Rashodi_detalji!$E$10:$E$85,"51035") -> 2109879.2 | D51: =E51-C51 -> 370270.83 | E51: =SUMIFS(Rashodi_detalji!$N$10:$N$85,Rashodi_detalji!$E$10:$E$85,"51035") -> 2480150 | F51: =IF(C51=0,"-",E51/C51*100) -> 117.54939
A52: 51038 | B52: MZO – Inkluzija | C52: =SUMIFS(Rashodi_detalji!$L$10:$L$85,Rashodi_detalji!$E$10:$E$85,"51038") -> 9745.31 | D52: =E52-C52 -> 5730.9 | E52: =SUMIFS(Rashodi_detalji!$N$10:$N$85,Rashodi_detalji!$E$10:$E$85,"51038") -> 15476.21 | F52: =IF(C52=0,"-",E52/C52*100) -> 158.80675
A53: 510391 | B53: MZO – prehrana za učenike | C53: =SUMIFS(Rashodi_detalji!$L$10:$L$85,Rashodi_detalji!$E$10:$E$85,"510391") -> 100000 | D53: =E53-C53 -> 0 | E53: =SUMIFS(Rashodi_detalji!$N$10:$N$85,Rashodi_detalji!$E$10:$E$85,"510391") -> 100000 | F53: =IF(C53=0,"-",E53/C53*100) -> 100
A54: 511903 | B54: MRMSOSP – menstrualne hig. potrepštine | C54: =SUMIFS(Rashodi_detalji!$L$10:$L$85,Rashodi_detalji!$E$10:$E$85,"511903") -> 1360 | D54: =E54-C54 -> 0 | E54: =SUMIFS(Rashodi_detalji!$N$10:$N$85,Rashodi_detalji!$E$10:$E$85,"511903") -> 1360 | F54: =IF(C54=0,"-",E54/C54*100) -> 100
A55: 53 | B55: Pomoći iz proračuna JLS | C55: =SUMIFS(Rashodi_detalji!$L$10:$L$85,Rashodi_detalji!$D$10:$D$85,"53") -> 57606.47 | D55: =E55-C55 -> 3213.53 | E55: =SUMIFS(Rashodi_detalji!$N$10:$N$85,Rashodi_detalji!$D$10:$D$85,"53") -> 60820 | F55: =IF(C55=0,"-",E55/C55*100) -> 105.57842
A56: 53 | B56: Proračun JLS – Grad Benkovac | C56: =SUMIFS(Rashodi_detalji!$L$10:$L$85,Rashodi_detalji!$E$10:$E$85,"53") -> 57606.47 | D56: =E56-C56 -> 3213.53 | E56: =SUMIFS(Rashodi_detalji!$N$10:$N$85,Rashodi_detalji!$E$10:$E$85,"53") -> 60820 | F56: =IF(C56=0,"-",E56/C56*100) -> 105.57842
A57: 54 | B57: Pomoći iz inozemstva (EU) | C57: =SUMIFS(Rashodi_detalji!$L$10:$L$85,Rashodi_detalji!$D$10:$D$85,"54") -> 35612.16 | D57: =E57-C57 -> 0 | E57: =SUMIFS(Rashodi_detalji!$N$10:$N$85,Rashodi_detalji!$D$10:$D$85,"54") -> 35612.16 | F57: =IF(C57=0,"-",E57/C57*100) -> 100
A58: 540099 | B58: EU – Inkluzija, korak bliže društvu bez prepreka | C58: =SUMIFS(Rashodi_detalji!$L$10:$L$85,Rashodi_detalji!$E$10:$E$85,"540099") -> 35612.16 | D58: =E58-C58 -> 0 | E58: =SUMIFS(Rashodi_detalji!$N$10:$N$85,Rashodi_detalji!$E$10:$E$85,"540099") -> 35612.16 | F58: =IF(C58=0,"-",E58/C58*100) -> 100
B59: UKUPNO RASHODI I IZDACI | C59: =C36+C38+C40+C42+C44+C46+C48+C55+C57 -> 2927619.6 | D59: =E59-C59 -> 361810.42 | E59: =E36+E38+E40+E42+E44+E46+E48+E55+E57 -> 3289430 | F59: =IF(C59=0,"-",E59/C59*100) -> 112.35852

Sheet Rashodi_funkcijska
A1: REPUBLIKA HRVATSKA
A2: ZADARSKA ŽUPANIJA
A3: OSNOVNA ŠKOLA BENKOVAC, Antuna Mihanovića 21b, 23420 Benkovac
A4: OIB: 73294343358 · RKP: 21238
A6: OPĆI DIO – RASHODI PREMA FUNKCIJSKOJ KLASIFIKACIJI
A7: (u EUR)
A9: Funkcija | B9: Naziv | C9: Izvorni plan 2024. | D9: Povećanje/ smanjenje | E9: I. rebalans 2024. | F9: Indeks (rebalans / plan)
A10: 09 | B10: Obrazovanje | C10: =SUM(C11:C12) -> 2927619.6 | D10: =E10-C10 -> 361810.42 | E10: =SUM(E11:E12) -> 3289430 | F10: =IF(C10=0,"-",E10/C10*100) -> 112.35852
A11: 0912 | B11: Osnovno obrazovanje | C11: =SUMIFS(Rashodi_detalji!$L$10:$L$85,Rashodi_detalji!$C$10:$C$85,"0912") -> 2896619.6 | D11: =E11-C11 -> 330754.62 | E11: =SUMIFS(Rashodi_detalji!$N$10:$N$85,Rashodi_detalji!$C$10:$C$85,"0912") -> 3227374.2 | F11: =IF(C11=0,"-",E11/C11*100) -> 111.41864
A12: 0960 | B12: Dodatne usluge u obrazovanju | C12: =SUMIFS(Rashodi_detalji!$L$10:$L$85,Rashodi_detalji!$C$10:$C$85,"0960") -> 31000 | D12: =E12-C12 -> 31055.8 | E12: =SUMIFS(Rashodi_detalji!$N$10:$N$85,Rashodi_detalji!$C$10:$C$85,"0960") -> 62055.8 | F12: =IF(C12=0,"-",E12/C12*100) -> 200.18

Sheet Posebni_dio
A1: REPUBLIKA HRVATSKA
A2: ZADARSKA ŽUPANIJA
A3: OSNOVNA ŠKOLA BENKOVAC, Antuna Mihanovića 21b, 23420 Benkovac
A4: OIB: 73294343358 · RKP: 21238
A6: POSEBNI DIO – RASHODI I IZDACI PO PROGRAMIMA, AKTIVNOSTIMA, IZVORIMA I EKONOMSKOJ KLASIFIKACIJI
A7: I. izmjene i dopune financijskog plana za 2024. godinu · Razdjel 007 · Glava 00706 · Proračunski korisnik 21238 OŠ Benkovac (u EUR)
A9: Oznaka | B9: Naziv | C9: Izvor | D9: Izvorni plan 2024. | E9: Povećanje/ smanjenje | F9: I. rebalans 2024. | G9: Indeks (rebalans / plan)
B10: UKUPNO OŠ BENKOVAC | D10: =D11+D42+D99 -> 2927619.6 | E10: =F10-D10 -> 361810.42 | F10: =F11+F42+F99 -> 3289430 | G10: =IF(D10=0,"-",F10/D10*100) -> 112.35852
A11: Program 2202 | B11: Osnovno školstvo – standard | D11: =SUMIFS(Rashodi_detalji!$L$10:$L$85,Rashodi_detalji!$A$10:$A$85,"2202") -> 2560193.1 | E11: =F11-D11 -> 325117.85 | F11: =SUMIFS(Rashodi_detalji!$N$10:$N$85,Rashodi_detalji!$A$10:$A$85,"2202") -> 2885311 | G11: =IF(D11=0,"-",F11/D11*100) -> 112.69896
A12: A2202-01 | B12: Djelatnost osnovnih škola (funkcija 0912) | D12: =SUMIFS(Rashodi_detalji!$L$10:$L$85,Rashodi_detalji!$B$10:$B$85,"A2202-01") -> 450313.98 | E12: =F12-D12 -> -45152.98 | F12: =SUMIFS(Rashodi_detalji!$N$10:$N$85,Rashodi_detalji!$B$10:$B$85,"A2202-01") -> 405161 | G12: =IF(D12=0,"-",F12/D12*100) -> 89.973001
A13: Izvor 451 | B13: F.P. i dod. udio u por. na dohodak | C13: 451 | D13: =SUMIFS(Rashodi_detalji!$L$10:$L$85,Rashodi_detalji!$B$10:$B$85,"A2202-01",Rashodi_detalji!$E$10:$E$85,"451") -> 450313.98 | E13: =F13-D13 -> -45152.98 | F13: =SUMIFS(Rashodi_detalji!$N$10:$N$85,Rashodi_detalji!$B$10:$B$85,"A2202-01",Rashodi_detalji!$E$10:$E$85,"451") -> 405161 | G13: =IF(D13=0,"-",F13/D13*100) -> 89.973001
A14: 32111 | B14: Dnevnice za službeni put u zemlji | C14: 451 | D14: =SUMIFS(Rashodi_detalji!$L$10:$L$85,Rashodi_detalji!$B$10:$B$85,"A2202-01",Rashodi_detalji!$E$10:$E$85,"451",Rashodi_detalji!$F$10:$F$85,"32111") -> 3000 | E14: =F14-D14 -> 500 | F14: =SUMIFS(Rashodi_detalji!$N$10:$N$85,Rashodi_detalji!$B$10:$B$85,"A2202-01",Rashodi_detalji!$E$10:$E$85,"451",Rashodi_detalji!$F$10:$F$85,"32111") -> 3500 | G14: =IF(D14=0,"-",F14/D14*100) -> 116.66667
A15: 32131 | B15: Seminari, savjetovanja | C15: 451 | D15: =SUMIFS(Rashodi_detalji!$L$10:$L$85,Rashodi_detalji!$B$10:$B$85,"A2202-01",Rashodi_detalji!$E$10:$E$85,"451",Rashodi_detalji!$F$10:$F$85,"32131") -> 800 | E15: =F15-D15 -> 0 | F15: =SUMIFS(Rashodi_detalji!$N$10:$N$85,Rashodi_detalji!$B$10:$B$85,"A2202-01",Rashodi_detalji!$E$10:$E$85,"451",Rashodi_detalji!$F$10:$F$85,"32131") -> 800 | G15: =IF(D15=0,"-",F15/D15*100) -> 100
A16: 32149 | B16: Ostale naknade troškova zaposlenima | C16: 451 | D16: =SUMIFS(Rashodi_detalji!$L$10:$L$85,Rashodi_detalji!$B$10:$B$85,"A2202-01",Rashodi_detalji!$E$10:$E$85,"451",Rashodi_detalji!$F$10:$F$85,"32149") -> 0 | E16: =F16-D16 -> 1000 | F16: =SUMIFS(Rashodi_detalji!$N$10:$N$85,Rashodi_detalji!$B$10:$B$85,"A2202-01",Rashodi_detalji!$E$10:$E$85,"451",Rashodi_detalji!$F$10:$F$85,"32149") -> 1000 | G16: =IF(D16=0,"-",F16/D16*100) -> -
A17: 32211 | B17: Uredski materijal | C17: 451 | D17: =SUMIFS(Rashodi_detalji!$L$10:$L$85,Rashodi_detalji!$B$10:$B$85,"A2202-01",Rashodi_detalji!$E$10:$E$85,"451",Rashodi_detalji!$F$10:$F$85,"32211") -> 7000 | E17: =F17-D17 -> 500 | F17: =SUMIFS(Rashodi_detalji!$N$10:$N$85,Rashodi_detalji!$B$10:$B$85,"A2202-01",Rashodi_detalji!$E$10:$E$85,"451",Rashodi_detalji!$F$10:$F$85,"32211") -> 7500 | G17: =IF(D17=0,"-",F17/D17*100) -> 107.14286
A18: 32221 | B18: Osnovni materijal i sirovine | C18: 451 | D18: =SUMIFS(Rashodi_detalji!$L$10:$L$85,Rashodi_detalji!$B$10:$B$85,"A2202-01",Rashodi_detalji!$E$10:$E$85,"451",Rashodi_detalji!$F$10:$F$85,"32221") -> 2000 | E18: =F18-D18 -> -500 | F18: =SUMIFS(Rashodi_detalji!$N$10:$N$85,Rashodi_detalji!$B$10:$B$85,"A2202-01",Rashodi_detalji!$E$10:$E$85,"451",Rashodi_detalji!$F$10:$F$85,"32221") -> 1500 | G18: =IF(D18=0,"-",F18/D18*100) -> 75
A19: 32231 | B19: Električna energija | C19: 451 | D19: =SUMIFS(Rashodi_detalji!$L$10:$L$85,Rashodi_detalji!$B$10:$B$85,"A2202-01",Rashodi_detalji!$E$10:$E$85,"451",Rashodi_detalji!$F$10:$F$85,"32231") -> 25000 | E19: =F19-D19 -> -3010.5 | F19: =SUMIFS(Rashodi_detalji!$N$10:$N$85,Rashodi_detalji!$B$10:$B$85,"A2202-01",Rashodi_detalji!$E$10:$E$85,"451",Rashodi_detalji!$F$10:$F$85,"32231") -> 21989.5 | G19: =IF(D19=0,"-",F19/D19*100) -> 87.958
A20: 32234 | B20: Motorni benzin i dizel gorivo | C20: 451 | D20: =SUMIFS(Rashodi_detalji!$L$10:$L$85,Rashodi_detalji!$B$10:$B$85,"A2202-01",Rashodi_detalji!$E$10:$E$85,"451",Rashodi_detalji!$F$10:$F$85,"32234") -> 50000 | E20: =F20-D20 -> -13824.55 | F20: =SUMIFS(Rashodi_detalji!$N$10:$N$85,Rashodi_detalji!$B$10:$B$85,"A2202-01",Rashodi_detalji!$E$10:$E$85,"451",Rashodi_detalji!$F$10:$F$85,"32234") -> 36175.45 | G20: =IF(D20=0,"-",F20/D20*100) -> 72.3509
A21: 32241 | B21: Materijal i dijelovi za tekuće i inv. održavanje građ. objekata | C21: 451 | D21: =SUMIFS(Rashodi_detalji!$L$10:$L$85,Rashodi_detalji!$B$10:$B$85,"A2202-01",Rashodi_detalji!$E$10:$E$85,"451",Rashodi_detalji!$F$10:$F$85,"32241") -> 3404 | E21: =F21-D21 -> -404 | F21: =SUMIFS(Rashodi_detalji!$N$10:$N$85,Rashodi_detalji!$B$10:$B$85,"A2202-01",Rashodi_detalji!$E$10:$E$85,"451",Rashodi_detalji!$F$10:$F$85,"32241") -> 3000 | G21: =IF(D21=0,"-",F21/D21*100) -> 88.13161
A22: 32251 | B22: Sitni inventar | C22: 451 | D22: =SUMIFS(Rashodi_detalji!$L$10:$L$85,Rashodi_detalji!$B$10:$B$85,"A2202-01",Rashodi_detalji!$E$10:$E$85,"451",Rashodi_detalji!$F$10:$F$85,"32251") -> 0 | E22: =F22-D22 -> 500 | F22: =SUMIFS(Rashodi_detalji!$N$10:$N$85,Rashodi_detalji!$B$10:$B$85,"A2202-01",Rashodi_detalji!$E$10:$E$85,"451",Rashodi_detalji!$F$10:$F$85,"32251") -> 500 | G22: =IF(D22=0,"-",F22/D22*100) -> -
A23: 32271 | B23: Službena, radna i zaštitna odjeća i obuća | C23: 451 | D23: =SUMIFS(Rashodi_detalji!$L$10:$L$85,Rashodi_detalji!$B$10:$B$85,"A2202-01",Rashodi_detalji!$E$10:$E$85,"451",Rashodi_detalji!$F$10:$F$85,"32271") -> 1500 | E23: =F23-D23 -> 0 | F23: =SUMIFS(Rashodi_detalji!$N$10:$N$85,Rashodi_detalji!$B$10:$B$85,"A2202-01",Rashodi_detalji!$E$10:$E$85,"451",Rashodi_detalji!$F$10:$F$85,"32271") -> 1500 | G23: =IF(D23=0,"-",F23/D23*100) -> 100
A24: 32311 | B24: Usluge telefona, telefaksa | C24: 451 | D24: =SUMIFS(Rashodi_detalji!$L$10:$L$85,Rashodi_detalji!$B$10:$B$85,"A2202-01",Rashodi_detalji!$E$10:$E$85,"451",Rashodi_detalji!$F$10:$F$85,"32311") -> 2500 | E24: =F24-D24 -> -300 | F24: =SUMIFS(Rashodi_detalji!$N$10:$N$85,Rashodi_detalji!$B$10:$B$85,"A2202-01",Rashodi_detalji!$E$10:$E$85,"451",Rashodi_detalji!$F$10:$F$85,"32311") -> 2200 | G24: =IF(D24=0,"-",F24/D24*100) -> 88
A25: 32321 | B25: Usluge tekućeg i inv. održavanja građ. objekata | C25: 451 | D25: =SUMIFS(Rashodi_detalji!$L$10:$L$85,Rashodi_detalji!$B$10:$B$85,"A2202-01",Rashodi_detalji!$E$10:$E$85,"451",Rashodi_detalji!$F$10:$F$85,"32321") -> 2500 | E25: =F25-D25 -> 4496.05 | F25: =SUMIFS(Rashodi_detalji!$N$10:$N$85,Rashodi_detalji!$B$10:$B$85,"A2202-01",Rashodi_detalji!$E$10:$E$85,"451",Rashodi_detalji!$F$10:$F$85,"32321") -> 6996.05 | G25: =IF(D25=0,"-",F25/D25*100) -> 279.842
A26: 32341 | B26: Opskrba vodom | C26: 451 | D26: =SUMIFS(Rashodi_detalji!$L$10:$L$85,Rashodi_detalji!$B$10:$B$85,"A2202-01",Rashodi_detalji!$E$10:$E$85,"451",Rashodi_detalji!$F$10:$F$85,"32341") -> 17259.98 | E26: =F26-D26 -> 22740.02 | F26: =SUMIFS(Rashodi_detalji!$N$10:$N$85,Rashodi_detalji!$B$10:$B$85,"A2202-01",Rashodi_detalji!$E$10:$E$85,"451",Rashodi_detalji!$F$10:$F$85,"32341") -> 40000 | G26: =IF(D26=0,"-",F26/D26*100) -> 231.74998
A27: 32353 | B27: Zakupnine i najamnine za opremu (prijevoz učenika) | C27: 451 | D27: =SUMIFS(Rashodi_detalji!$L$10:$L$85,Rashodi_detalji!$B$10:$B$85,"A2202-01",Rashodi_detalji!$E$10:$E$85,"451",Rashodi_detalji!$F$10:$F$85,"32353") -> 316000 | E27: =F27-D27 -> -58300 | F27: =SUMIFS(Rashodi_detalji!$N$10:$N$85,Rashodi_detalji!$B$10:$B$85,"A2202-01",Rashodi_detalji!$E$10:$E$85,"451",Rashodi_detalji!$F$10:$F$85,"32353") -> 257700 | G27: =IF(D27=0,"-",F27/D27*100) -> 81.550633
A28: 32359 | B28: Ostale najamnine i zakupnine | C28: 451 | D28: =SUMIFS(Rashodi_detalji!$L$10:$L$85,Rashodi_detalji!$B$10:$B$85,"A2202-01",Rashodi_detalji!$E$10:$E$85,"451",Rashodi_detalji!$F$10:$F$85,"32359") -> 2700 | E28: =F28-D28 -> 0 | F28: =SUMIFS(Rashodi_detalji!$N$10:$N$85,Rashodi_detalji!$B$10:$B$85,"A2202-01",Rashodi_detalji!$E$10:$E$85,"451",Rashodi_detalji!$F$10:$F$85,"32359") -> 2700 | G28: =IF(D28=0,"-",F28/D28*100) -> 100
A29: 32361 | B29: Obvezni zdravstveni pregledi zaposlenika | C29: 451 | D29: =SUMIFS(Rashodi_detalji!$L$10:$L$85,Rashodi_detalji!$B$10:$B$85,"A2202-01",Rashodi_detalji!$E$10:$E$85,"451",Rashodi_detalji!$F$10:$F$85,"32361") -> 6500 | E29: =F29-D29 -> 800 | F29: =SUMIFS(Rashodi_detalji!$N$10:$N$85,Rashodi_detalji!$B$10:$B$85,"A2202-01",Rashodi_detalji!$E$10:$E$85,"451",Rashodi_detalji!$F$10:$F$85,"32361") -> 7300 | G29: =IF(D29=0,"-",F29/D29*100) -> 112.30769
A30: 32379 | B30: Ostale intelektualne usluge | C30: 451 | D30: =SUMIFS(Rashodi_detalji!$L$10:$L$85,Rashodi_detalji!$B$10:$B$85,"A2202-01",Rashodi_detalji!$E$10:$E$85,"451",Rashodi_detalji!$F$10:$F$85,"32379") -> 2300 | E30: =F30-D30 -> 200 | F30: =SUMIFS(Rashodi_detalji!$N$10:$N$85,Rashodi_detalji!$B$10:$B$85,"A2202-01",Rashodi_detalji!$E$10:$E$85,"451",Rashodi_detalji!$F$10:$F$85,"32379") -> 2500 | G30: =IF(D30=0,"-",F30/D30*100) -> 108.69565
A31: 32389 | B31: Ostale računalne usluge | C31: 451 | D31: =SUMIFS(Rashodi_detalji!$L$10:$L$85,Rashodi_detalji!$B$10:$B$85,"A2202-01",Rashodi_detalji!$E$10:$E$85,"451",Rashodi_detalji!$F$10:$F$85,"32389") -> 4700 | E31: =F31-D31 -> 300 | F31: =SUMIFS(Rashodi_detalji!$N$10:$N$85,Rashodi_detalji!$B$10:$B$85,"A2202-01",Rashodi_detalji!$E$10:$E$85,"451",Rashodi_detalji!$F$10:$F$85,"32389") -> 5000 | G31: =IF(D31=0,"-",F31/D31*100) -> 106.38298
A32: 32922 | B32: Premije osiguranja ostale imovine | C32: 451 | D32: =SUMIFS(Rashodi_detalji!$L$10:$L$85,Rashodi_detalji!$B$10:$B$85,"A2202-01",Rashodi_detalji!$E$10:$E$85,"451",Rashodi_detalji!$F$10:$F$85,"32922") -> 2300 | E32: =F32-D32 -> -300 | F32: =SUMIFS(Rashodi_detalji!$N$10:$N$85,Rashodi_detalji!$B$10:$B$85,"A2202-01",Rashodi_detalji!$E$10:$E$85,"451",Rashodi_detalji!$F$10:$F$85,"32922") -> 2000 | G32: =IF(D32=0,"-",F32/D32*100) -> 86.956522
A33: 32941 | B33: Tuzemne članarine | C33: 451 | D33: =SUMIFS(Rashodi_detalji!$L$10:$L$85,Rashodi_detalji!$B$10:$B$85,"A2202-01",Rashodi_detalji!$E$10:$E$85,"451",Rashodi_detalji!$F$10:$F$85,"32941") -> 250 | E33: =F33-D33 -> 250 | F33: =SUMIFS(Rashodi_detalji!$N$10:$N$85,Rashodi_detalji!$B$10:$B$85,"A2202-01",Rashodi_detalji!$E$10:$E$85,"451",Rashodi_detalji!$F$10:$F$85,"32941") -> 500 | G33: =IF(D33=0,"-",F33/D33*100) -> 200
A34: 34312 | B34: Usluge platnog prometa | C34: 451 | D34: =SUMIFS(Rashodi_detalji!$L$10:$L$85,Rashodi_detalji!$B$10:$B$85,"A2202-01",Rashodi_detalji!$E$10:$E$85,"451",Rashodi_detalji!$F$10:$F$85,"34312") -> 600 | E34: =F34-D34 -> 200 | F34: =SUMIFS(Rashodi_detalji!$N$10:$N$85,Rashodi_detalji!$B$10:$B$85,"A2202-01",Rashodi_detalji!$E$10:$E$85,"451",Rashodi_detalji!$F$10:$F$85,"34312") -> 800 | G34: =IF(D34=0,"-",F34/D34*100) -> 133.33333
A35: A2202-04 | B35: Administracija i upravljanje (funkcija 0912) | D35: =SUMIFS(Rashodi_detalji!$L$10:$L$85,Rashodi_detalji!$B$10:$B$85,"A2202-04") -> 2109879.2 | E35: =F35-D35 -> 370270.83 | F35: =SUMIFS(Rashodi_detalji!$N$10:$N$85,Rashodi_detalji!$B$10:$B$85,"A2202-04") -> 2480150 | G35: =IF(D35=0,"-",F35/D35*100) -> 117.54939
A36: Izvor 51035 | B36: MZO – plaće | C36: 51035 | D36: =SUMIFS(Rashodi_detalji!$L$10:$L$85,Rashodi_detalji!$B$10:$B$85,"A2202-04",Rashodi_detalji!$E$10:$E$85,"51035") -> 2109879.2 | E36: =F36-D36 -> 370270.83 | F36: =SUMIFS(Rashodi_detalji!$N$10:$N$85,Rashodi_detalji!$B$10:$B$85,"A2202-04",Rashodi_detalji!$E$10:$E$85,"51035") -> 2480150 | G36: =IF(D36=0,"-",F36/D36*100) -> 117.54939
A37: 31111 | B37: Plaće za redovan rad | C37: 51035 | D37: =SUMIFS(Rashodi_detalji!$L$10:$L$85,Rashodi_detalji!$B$10:$B$85,"A2202-04",Rashodi_detalji!$E$10:$E$85,"51035",Rashodi_detalji!$F$10:$F$85,"31111") -> 1632490.5 | E37: =F37-D37 -> 298509.46 | F37: =SUMIFS(Rashodi_detalji!$N$10:$N$85,Rashodi_detalji!$B$10:$B$85,"A2202-04",Rashodi_detalji!$E$10:$E$85,"51035",Rashodi_detalji!$F$10:$F$85,"31111") -> 1931000 | G37: =IF(D37=0,"-",F37/D37*100) -> 118.28552
A38: 3121 | B38: Ostali rashodi za zaposlene | C38: 51035 | D38: =SUMIFS(Rashodi_detalji!$L$10:$L$85,Rashodi_detalji!$B$10:$B$85,"A2202-04",Rashodi_detalji!$E$10:$E$85,"51035",Rashodi_detalji!$F$10:$F$85,"3121") -> 65338.63 | E38: =F38-D38 -> 19661.37 | F38: =SUMIFS(Rashodi_detalji!$N$10:$N$85,Rashodi_detalji!$B$10:$B$85,"A2202-04",Rashodi_detalji!$E$10:$E$85,"51035",Rashodi_detalji!$F$10:$F$85,"3121") -> 85000 | G38: =IF(D38=0,"-",F38/D38*100) -> 130.09149
A39: 31321 | B39: Doprinos za obvezno zdravstveno osiguranje | C39: 51035 | D39: =SUMIFS(Rashodi_detalji!$L$10:$L$85,Rashodi_detalji!$B$10:$B$85,"A2202-04",Rashodi_detalji!$E$10:$E$85,"51035",Rashodi_detalji!$F$10:$F$85,"31321") -> 266500 | E39: =F39-D39 -> 51500 | F39: =SUMIFS(Rashodi_detalji!$N$10:$N$85,Rashodi_detalji!$B$10:$B$85,"A2202-04",Rashodi_detalji!$E$10:$E$85,"51035",Rashodi_detalji!$F$10:$F$85,"31321") -> 318000 | G39: =IF(D39=0,"-",F39/D39*100) -> 119.32458
A40: 32121 | B40: Naknade za prijevoz na posao i s posla | C40: 51035 | D40: =SUMIFS(Rashodi_detalji!$L$10:$L$85,Rashodi_detalji!$B$10:$B$85,"A2202-04",Rashodi_detalji!$E$10:$E$85,"51035",Rashodi_detalji!$F$10:$F$85,"32121") -> 139400 | E40: =F40-D40 -> 600 | F40: =SUMIFS(Rashodi_detalji!$N$10:$N$85,Rashodi_detalji!$B$10:$B$85,"A2202-04",Rashodi_detalji!$E$10:$E$85,"51035",Rashodi_detalji!$F$10:$F$85,"32121") -> 140000 | G40: =IF(D40=0,"-",F40/D40*100) -> 100.43042
A41: 32955 | B41: Novčana naknada zbog nezapošljavanja osoba s invaliditetom | C41: 51035 | D41: =SUMIFS(Rashodi_detalji!$L$10:$L$85,Rashodi_detalji!$B$10:$B$85,"A2202-04",Rashodi_detalji!$E$10:$E$85,"51035",Rashodi_detalji!$F$10:$F$85,"32955") -> 6150 | E41: =F41-D41 -> 0 | F41: =SUMIFS(Rashodi_detalji!$N$10:$N$85,Rashodi_detalji!$B$10:$B$85,"A2202-04",Rashodi_detalji!$E$10:$E$85,"51035",Rashodi_detalji!$F$10:$F$85,"32955") -> 6150 | G41: =IF(D41=0,"-",F41/D41*100) -> 100
A42: Program 2203 | B42: Osnovno školstvo – iznad standarda | D42: =SUMIFS(Rashodi_detalji!$L$10:$L$85,Rashodi_detalji!$A$10:$A$85,"2203") -> 263509.55 | E42: =F42-D42 -> 42521.06 | F42: =SUMIFS(Rashodi_detalji!$N$10:$N$85,Rashodi_detalji!$A$10:$A$85,"2203") -> 306030.61 | G42: =IF(D42=0,"-",F42/D42*100) -> 116.13644
A43: T2203-02 | B43: Projektna dokumentacija – javne potrebe (funkcija 0912) | D43: =SUMIFS(Rashodi_detalji!$L$10:$L$85,Rashodi_detalji!$B$10:$B$85,"T2203-02") -> 15270.01 | E43: =F43-D43 -> 0 | F43: =SUMIFS(Rashodi_detalji!$N$10:$N$85,Rashodi_detalji!$B$10:$B$85,"T2203-02") -> 15270.01 | G43: =IF(D43=0,"-",F43/D43*100) -> 100
A44: Izvor 110 | B44: Opći prihodi i primici – Zadarska županija | C44: 110 | D44: =SUMIFS(Rashodi_detalji!$L$10:$L$85,Rashodi_detalji!$B$10:$B$85,"T2203-02",Rashodi_detalji!$E$10:$E$85,"110") -> 15270.01 | E44: =F44-D44 -> 0 | F44: =SUMIFS(Rashodi_detalji!$N$10:$N$85,Rashodi_detalji!$B$10:$B$85,"T2203-02",Rashodi_detalji!$E$10:$E$85,"110") -> 15270.01 | G44: =IF(D44=0,"-",F44/D44*100) -> 100
A45: 42641 | B45: Ostala nematerijalna proizvedena imovina | C45: 110 | D45: =SUMIFS(Rashodi_detalji!$L$10:$L$85,Rashodi_detalji!$B$10:$B$85,"T2203-02",Rashodi_detalji!$E$10:$E$85,"110",Rashodi_detalji!$F$10:$F$85,"42641") -> 15270.01 | E45: =F45-D45 -> 0 | F45: =SUMIFS(Rashodi_detalji!$N$10:$N$85,Rashodi_detalji!$B$10:$B$85,"T2203-02",Rashodi_detalji!$E$10:$E$85,"110",Rashodi_detalji!$F$10:$F$85,"42641") -> 15270.01 | G45: =IF(D45=0,"-",F45/D45*100) -> 100
A46: A2203-04 | B46: Podizanje kvalitete i standarda u školstvu (funkcija 0912) | D46: =SUMIFS(Rashodi_detalji!$L$10:$L$85,Rashodi_detalji!$B$10:$B$85,"A2203-04") -> 115879.54 | E46: =F46-D46 -> 11465.26 | F46: =SUMIFS(Rashodi_detalji!$N$10:$N$85,Rashodi_detalji!$B$10:$B$85,"A2203-04") -> 127344.8 | G46: =IF(D46=0,"-",F46/D46*100) -> 109.89412
A47: Izvor 31 | B47: Vlastiti prihodi – korisnici | C47: 31 | D47: =SUMIFS(Rashodi_detalji!$L$10:$L$85,Rashodi_detalji!$B$10:$B$85,"A2203-04",Rashodi_detalji!$E$10:$E$85,"31") -> 21748.07 | E47: =F47-D47 -> -200 | F47: =SUMIFS(Rashodi_detalji!$N$10:$N$85,Rashodi_detalji!$B$10:$B$85,"A2203-04",Rashodi_detalji!$E$10:$E$85,"31") -> 21548.07 | G47: =IF(D47=0,"-",F47/D47*100) -> 99.080378
A48: 32121 | B48: Naknade za prijevoz na posao i s posla | C48: 31 | D48: =SUMIFS(Rashodi_detalji!$L$10:$L$85,Rashodi_detalji!$B$10:$B$85,"A2203-04",Rashodi_detalji!$E$10:$E$85,"31",Rashodi_detalji!$F$10:$F$85,"32121") -> 1100 | E48: =F48-D48 -> -100 | F48: =SUMIFS(Rashodi_detalji!$N$10:$N$85,Rashodi_detalji!$B$10:$B$85,"A2203-04",Rashodi_detalji!$E$10:$E$85,"31",Rashodi_detalji!$F$10:$F$85,"32121") -> 1000 | G48: =IF(D48=0,"-",F48/D48*100) -> 90.909091
A49: 32131 | B49: Seminari, savjetovanja | C49: 31 | D49: =SUMIFS(Rashodi_detalji!$L$10:$L$85,Rashodi_detalji!$B$10:$B$85,"A2203-04",Rashodi_detalji!$E$10:$E$85,"31",Rashodi_detalji!$F$10:$F$85,"32131") -> 2500 | E49: =F49-D49 -> 500 | F49: =SUMIFS(Rashodi_detalji!$N$10:$N$85,Rashodi_detalji!$B$10:$B$85,"A2203-04",Rashodi_detalji!$E$10:$E$85,"31",Rashodi_detalji!$F$10:$F$85,"32131") -> 3000 | G49: =IF(D49=0,"-",F49/D49*100) -> 120
A50: 32241 | B50: Materijal i dijelovi za tekuće i inv. održavanje građ. objekata | C50: 31 | D50: =SUMIFS(Rashodi_detalji!$L$10:$L$85,Rashodi_detalji!$B$10:$B$85,"A2203-04",Rashodi_detalji!$E$10:$E$85,"31",Rashodi_detalji!$F$10:$F$85,"32241") -> 2000 | E50: =F50-D50 -> 0 | F50: =SUMIFS(Rashodi_detalji!$N$10:$N$85,Rashodi_detalji!$B$10:$B$85,"A2203-04",Rashodi_detalji!$E$10:$E$85,"31",Rashodi_detalji!$F$10:$F$85,"32241") -> 2000 | G50: =IF(D50=0,"-",F50/D50*100) -> 100
A51: 32321 | B51: Usluge tekućeg i inv. održavanja građ. objekata | C51: 31 | D51: =SUMIFS(Rashodi_detalji!$L$10:$L$85,Rashodi_detalji!$B$10:$B$85,"A2203-04",Rashodi_detalji!$E$10:$E$85,"31",Rashodi_detalji!$F$10:$F$85,"32321") -> 3318.07 | E51: =F51-D51 -> 0 | F51: =SUMIFS(Rashodi_detalji!$N$10:$N$85,Rashodi_detalji!$B$10:$B$85,"A2203-04",Rashodi_detalji!$E$10:$E$85,"31",Rashodi_detalji!$F$10:$F$85,"32321") -> 3318.07 | G51: =IF(D51=0,"-",F51/D51*100) -> 100
A52: 32341 | B52: Opskrba vodom | C52: 31 | D52: =SUMIFS(Rashodi_detalji!$L$10:$L$85,Rashodi_detalji!$B$10:$B$85,"A2203-04",Rashodi_detalji!$E$10:$E$85,"31",Rashodi_detalji!$F$10:$F$85,"32341") -> 5000 | E52: =F52-D52 -> -4000 | F52: =SUMIFS(Rashodi_detalji!$N$10:$N$85,Rashodi_detalji!$B$10:$B$85,"A2203-04",Rashodi_detalji!$E$10:$E$85,"31",Rashodi_detalji!$F$10:$F$85,"32341") -> 1000 | G52: =IF(D52=0,"-",F52/D52*100) -> 20
A53: 32359 | B53: Ostale najamnine i zakupnine | C53: 31 | D53: =SUMIFS(Rashodi_detalji!$L$10:$L$85,Rashodi_detalji!$B$10:$B$85,"A2203-04",Rashodi_detalji!$E$10:$E$85,"31",Rashodi_detalji!$F$10:$F$85,"32359") -> 2000 | E53: =F53-D53 -> 1000 | F53: =SUMIFS(Rashodi_detalji!$N$10:$N$85,Rashodi_detalji!$B$10:$B$85,"A2203-04",Rashodi_detalji!$E$10:$E$85,"31",Rashodi_detalji!$F$10:$F$85,"32359") -> 3000 | G53: =IF(D53=0,"-",F53/D53*100) -> 150
A54: 32379 | B54: Ostale intelektualne usluge | C54: 31 | D54: =SUMIFS(Rashodi_detalji!$L$10:$L$85,Rashodi_detalji!$B$10:$B$85,"A2203-04",Rashodi_detalji!$E$10:$E$85,"31",Rashodi_detalji!$F$10:$F$85,"32379") -> 600 | E54: =F54-D54 -> 400 | F54: =SUMIFS(Rashodi_detalji!$N$10:$N$85,Rashodi_detalji!$B$10:$B$85,"A2203-04",Rashodi_detalji!$E$10:$E$85,"31",Rashodi_detalji!$F$10:$F$85,"32379") -> 1000 | G54: =IF(D54=0,"-",F54/D54*100) -> 166.66667
A55: 32382 | B55: Usluge razvoja softwarea | C55: 31 | D55: =SUMIFS(Rashodi_detalji!$L$10:$L$85,Rashodi_detalji!$B$10:$B$85,"A2203-04",Rashodi_detalji!$E$10:$E$85,"31",Rashodi_detalji!$F$10:$F$85,"32382") -> 330 | E55: =F55-D55 -> 0 | F55: =SUMIFS(Rashodi_detalji!$N$10:$N$85,Rashodi_detalji!$B$10:$B$85,"A2203-04",Rashodi_detalji!$E$10:$E$85,"31",Rashodi_detalji!$F$10:$F$85,"32382") -> 330 | G55: =IF(D55=0,"-",F55/D55*100) -> 100
A56: 32394 | B56: Usluge pri registraciji prijevoznih sredstava | C56: 31 | D56: =SUMIFS(Rashodi_detalji!$L$10:$L$85,Rashodi_detalji!$B$10:$B$85,"A2203-04",Rashodi_detalji!$E$10:$E$85,"31",Rashodi_detalji!$F$10:$F$85,"32394") -> 400 | E56: =F56-D56 -> 0 | F56: =SUMIFS(Rashodi_detalji!$N$10:$N$85,Rashodi_detalji!$B$10:$B$85,"A2203-04",Rashodi_detalji!$E$10:$E$85,"31",Rashodi_detalji!$F$10:$F$85,"32394") -> 400 | G56: =IF(D56=0,"-",F56/D56*100) -> 100
A57: 34333 | B57: Zatezne kamate iz poslovnih odnosa | C57: 31 | D57: =SUMIFS(Rashodi_detalji!$L$10:$L$85,Rashodi_detalji!$B$10:$B$85,"A2203-04",Rashodi_detalji!$E$10:$E$85,"31",Rashodi_detalji!$F$10:$F$85,"34333") -> 500 | E57: =F57-D57 -> 0 | F57: =SUMIFS(Rashodi_detalji!$N$10:$N$85,Rashodi_detalji!$B$10:$B$85,"A2203-04",Rashodi_detalji!$E$10:$E$85,"31",Rashodi_detalji!$F$10:$F$85,"34333") -> 500 | G57: =IF(D57=0,"-",F57/D57*100) -> 100
A58: 42219 | B58: Ostala uredska oprema | C58: 31 | D58: =SUMIFS(Rashodi_detalji!$L$10:$L$85,Rashodi_detalji!$B$10:$B$85,"A2203-04",Rashodi_detalji!$E$10:$E$85,"31",Rashodi_detalji!$F$10:$F$85,"42219") -> 2000 | E58: =F58-D58 -> 2000 | F58: =SUMIFS(Rashodi_detalji!$N$10:$N$85,Rashodi_detalji!$B$10:$B$85,"A2203-04",Rashodi_detalji!$E$10:$E$85,"31",Rashodi_detalji!$F$10:$F$85,"42219") -> 4000 | G58: =IF(D58=0,"-",F58/D58*100) -> 200
A59: 42271 | B59: Uređaji | C59: 31 | D59: =SUMIFS(Rashodi_detalji!$L$10:$L$85,Rashodi_detalji!$B$10:$B$85,"A2203-04",Rashodi_detalji!$E$10:$E$85,"31",Rashodi_detalji!$F$10:$F$85,"42271") -> 2000 | E59: =F59-D59 -> 0 | F59: =SUMIFS(Rashodi_detalji!$N$10:$N$85,Rashodi_detalji!$B$10:$B$85,"A2203-04",Rashodi_detalji!$E$10:$E$85,"31",Rashodi_detalji!$F$10:$F$85,"42271") -> 2000 | G59: =IF(D59=0,"-",F59/D59*100) -> 100
A60: Izvor 41 | B60: Prihodi za posebne namjene | C60: 41 | D60: =SUMIFS(Rashodi_detalji!$L$10:$L$85,Rashodi_detalji!$B$10:$B$85,"A2203-04",Rashodi_detalji!$E$10:$E$85,"41") -> 11100 | E60: =F60-D60 -> 6550 | F60: =SUMIFS(Rashodi_detalji!$N$10:$N$85,Rashodi_detalji!$B$10:$B$85,"A2203-04",Rashodi_detalji!$E$10:$E$85,"41") -> 17650 | G60: =IF(D60=0,"-",F60/D60*100) -> 159.00901
A61: 31213 | B61: Darovi | C61: 41 | D61: =SUMIFS(Rashodi_detalji!$L$10:$L$85,Rashodi_detalji!$B$10:$B$85,"A2203-04",Rashodi_detalji!$E$10:$E$85,"41",Rashodi_detalji!$F$10:$F$85,"31213") -> 400 | E61: =F61-D61 -> 0 | F61: =SUMIFS(Rashodi_detalji!$N$10:$N$85,Rashodi_detalji!$B$10:$B$85,"A2203-04",Rashodi_detalji!$E$10:$E$85,"41",Rashodi_detalji!$F$10:$F$85,"31213") -> 400 | G61: =IF(D61=0,"-",F61/D61*100) -> 100
A62: 31216 | B62: Regres za godišnji odmor | C62: 41 | D62: =SUMIFS(Rashodi_detalji!$L$10:$L$85,Rashodi_detalji!$B$10:$B$85,"A2203-04",Rashodi_detalji!$E$10:$E$85,"41",Rashodi_detalji!$F$10:$F$85,"31216") -> 350 | E62: =F62-D62 -> 150 | F62: =SUMIFS(Rashodi_detalji!$N$10:$N$85,Rashodi_detalji!$B$10:$B$85,"A2203-04",Rashodi_detalji!$E$10:$E$85,"41",Rashodi_detalji!$F$10:$F$85,"31216") -> 500 | G62: =IF(D62=0,"-",F62/D62*100) -> 142.85714
A63: 31219 | B63: Ostali nenavedeni rashodi za zaposlene | C63: 41 | D63: =SUMIFS(Rashodi_detalji!$L$10:$L$85,Rashodi_detalji!$B$10:$B$85,"A2203-04",Rashodi_detalji!$E$10:$E$85,"41",Rashodi_detalji!$F$10:$F$85,"31219") -> 350 | E63: =F63-D63 -> 150 | F63: =SUMIFS(Rashodi_detalji!$N$10:$N$85,Rashodi_detalji!$B$10:$B$85,"A2203-04",Rashodi_detalji!$E$10:$E$85,"41",Rashodi_detalji!$F$10:$F$85,"31219") -> 500 | G63: =IF(D63=0,"-",F63/D63*100) -> 142.85714
A64: 32221 | B64: Osnovni materijal i sirovine | C64: 41 | D64: =SUMIFS(Rashodi_detalji!$L$10:$L$85,Rashodi_detalji!$B$10:$B$85,"A2203-04",Rashodi_detalji!$E$10:$E$85,"41",Rashodi_detalji!$F$10:$F$85,"32221") -> 2000 | E64: =F64-D64 -> 0 | F64: =SUMIFS(Rashodi_detalji!$N$10:$N$85,Rashodi_detalji!$B$10:$B$85,"A2203-04",Rashodi_detalji!$E$10:$E$85,"41",Rashodi_detalji!$F$10:$F$85,"32221") -> 2000 | G64: =IF(D64=0,"-",F64/D64*100) -> 100
A65: 32224 | B65: Namirnice | C65: 41 | D65: =SUMIFS(Rashodi_detalji!$L$10:$L$85,Rashodi_detalji!$B$10:$B$85,"A2203-04",Rashodi_detalji!$E$10:$E$85,"41",Rashodi_detalji!$F$10:$F$85,"32224") -> 5000 | E65: =F65-D65 -> 6250 | F65: =SUMIFS(Rashodi_detalji!$N$10:$N$85,Rashodi_detalji!$B$10:$B$85,"A2203-04",Rashodi_detalji!$E$10:$E$85,"41",Rashodi_detalji!$F$10:$F$85,"32224") -> 11250 | G65: =IF(D65=0,"-",F65/D65*100) -> 225
A66: 32359 | B66: Ostale najamnine i zakupnine | C66: 41 | D66: =SUMIFS(Rashodi_detalji!$L$10:$L$85,Rashodi_detalji!$B$10:$B$85,"A2203-04",Rashodi_detalji!$E$10:$E$85,"41",Rashodi_detalji!$F$10:$F$85,"32359") -> 3000 | E66: =F66-D66 -> 0 | F66: =SUMIFS(Rashodi_detalji!$N$10:$N$85,Rashodi_detalji!$B$10:$B$85,"A2203-04",Rashodi_detalji!$E$10:$E$85,"41",Rashodi_detalji!$F$10:$F$85,"32359") -> 3000 | G66: =IF(D66=0,"-",F66/D66*100) -> 100
A67: Izvor 42034 | B67: Višak prihoda OŠ | C67: 42034 | D67: =SUMIFS(Rashodi_detalji!$L$10:$L$85,Rashodi_detalji!$B$10:$B$85,"A2203-04",Rashodi_detalji!$E$10:$E$85,"42034") -> 21125 | E67: =F67-D67 -> 1901.73 | F67: =SUMIFS(Rashodi_detalji!$N$10:$N$85,Rashodi_detalji!$B$10:$B$85,"A2203-04",Rashodi_detalji!$E$10:$E$85,"42034") -> 23026.73 | G67: =IF(D67=0,"-",F67/D67*100) -> 109.00227
A68: 32221 | B68: Osnovni materijal i sirovine | C68: 42034 | D68: =SUMIFS(Rashodi_detalji!$L$10:$L$85,Rashodi_detalji!$B$10:$B$85,"A2203-04",Rashodi_detalji!$E$10:$E$85,"42034",Rashodi_detalji!$F$10:$F$85,"32221") -> 350 | E68: =F68-D68 -> 0 | F68: =SUMIFS(Rashodi_detalji!$N$10:$N$85,Rashodi_detalji!$B$10:$B$85,"A2203-04",Rashodi_detalji!$E$10:$E$85,"42034",Rashodi_detalji!$F$10:$F$85,"32221") -> 350 | G68: =IF(D68=0,"-",F68/D68*100) -> 100
A69: 32224 | B69: Namirnice | C69: 42034 | D69: =SUMIFS(Rashodi_detalji!$L$10:$L$85,Rashodi_detalji!$B$10:$B$85,"A2203-04",Rashodi_detalji!$E$10:$E$85,"42034",Rashodi_detalji!$F$10:$F$85,"32224") -> 4000 | E69: =F69-D69 -> -4000 | F69: =SUMIFS(Rashodi_detalji!$N$10:$N$85,Rashodi_detalji!$B$10:$B$85,"A2203-04",Rashodi_detalji!$E$10:$E$85,"42034",Rashodi_detalji!$F$10:$F$85,"32224") -> 0 | G69: =IF(D69=0,"-",F69/D69*100) -> 0
A70: 32241 | B70: Materijal i dijelovi za tekuće i inv. održavanje građ. objekata | C70: 42034 | D70: =SUMIFS(Rashodi_detalji!$L$10:$L$85,Rashodi_detalji!$B$10:$B$85,"A2203-04",Rashodi_detalji!$E$10:$E$85,"42034",Rashodi_detalji!$F$10:$F$85,"32241") -> 0 | E70: =F70-D70 -> 1000 | F70: =SUMIFS(Rashodi_detalji!$N$10:$N$85,Rashodi_detalji!$B$10:$B$85,"A2203-04",Rashodi_detalji!$E$10:$E$85,"42034",Rashodi_detalji!$F$10:$F$85,"32241") -> 1000 | G70: =IF(D70=0,"-",F70/D70*100) -> -
A71: 32321 | B71: Usluge tekućeg i inv. održavanja građ. objekata | C71: 42034 | D71: =SUMIFS(Rashodi_detalji!$L$10:$L$85,Rashodi_detalji!$B$10:$B$85,"A2203-04",Rashodi_detalji!$E$10:$E$85,"42034",Rashodi_detalji!$F$10:$F$85,"32321") -> 1000 | E71: =F71-D71 -> 1901.97 | F71: =SUMIFS(Rashodi_detalji!$N$10:$N$85,Rashodi_detalji!$B$10:$B$85,"A2203-04",Rashodi_detalji!$E$10:$E$85,"42034",Rashodi_detalji!$F$10:$F$85,"32321") -> 2901.97 | G71: =IF(D71=0,"-",F71/D71*100) -> 290.197
A72: 32322 | B72: Usluge tekućeg i inv. održavanja opreme | C72: 42034 | D72: =SUMIFS(Rashodi_detalji!$L$10:$L$85,Rashodi_detalji!$B$10:$B$85,"A2203-04",Rashodi_detalji!$E$10:$E$85,"42034",Rashodi_detalji!$F$10:$F$85,"32322") -> 1500 | E72: =F72-D72 -> -1500 | F72: =SUMIFS(Rashodi_detalji!$N$10:$N$85,Rashodi_detalji!$B$10:$B$85,"A2203-04",Rashodi_detalji!$E$10:$E$85,"42034",Rashodi_detalji!$F$10:$F$85,"32322") -> 0 | G72: =IF(D72=0,"-",F72/D72*100) -> 0
A73: 32382 | B73: Usluge razvoja softwarea | C73: 42034 | D73: =SUMIFS(Rashodi_detalji!$L$10:$L$85,Rashodi_detalji!$B$10:$B$85,"A2203-04",Rashodi_detalji!$E$10:$E$85,"42034",Rashodi_detalji!$F$10:$F$85,"32382") -> 330 | E73: =F73-D73 -> 170 | F73: =SUMIFS(Rashodi_detalji!$N$10:$N$85,Rashodi_detalji!$B$10:$B$85,"A2203-04",Rashodi_detalji!$E$10:$E$85,"42034",Rashodi_detalji!$F$10:$F$85,"32382") -> 500 | G73: =IF(D73=0,"-",F73/D73*100) -> 151.51515
A74: 32931 | B74: Reprezentacija | C74: 42034 | D74: =SUMIFS(Rashodi_detalji!$L$10:$L$85,Rashodi_detalji!$B$10:$B$85,"A2203-04",Rashodi_detalji!$E$10:$E$85,"42034",Rashodi_detalji!$F$10:$F$85,"32931") -> 2000 | E74: =F74-D74 -> -500 | F74: =SUMIFS(Rashodi_detalji!$N$10:$N$85,Rashodi_detalji!$B$10:$B$85,"A2203-04",Rashodi_detalji!$E$10:$E$85,"42034",Rashodi_detalji!$F$10:$F$85,"32931") -> 1500 | G74: =IF(D74=0,"-",F74/D74*100) -> 75
A75: 42219 | B75: Ostala uredska oprema | C75: 42034 | D75: =SUMIFS(Rashodi_detalji!$L$10:$L$85,Rashodi_detalji!$B$10:$B$85,"A2203-04",Rashodi_detalji!$E$10:$E$85,"42034",Rashodi_detalji!$F$10:$F$85,"42219") -> 0 | E75: =F75-D75 -> 1500 | F75: =SUMIFS(Rashodi_detalji!$N$10:$N$85,Rashodi_detalji!$B$10:$B$85,"A2203-04",Rashodi_detalji!$E$10:$E$85,"42034",Rashodi_detalji!$F$10:$F$85,"42219") -> 1500 | G75: =IF(D75=0,"-",F75/D75*100) -> -
A76: 42271 | B76: Uređaji | C76: 42034 | D76: =SUMIFS(Rashodi_detalji!$L$10:$L$85,Rashodi_detalji!$B$10:$B$85,"A2203-04",Rashodi_detalji!$E$10:$E$85,"42034",Rashodi_detalji!$F$10:$F$85,"42271") -> 0 | E76: =F76-D76 -> 2407.43 | F76: =SUMIFS(Rashodi_detalji!$N$10:$N$85,Rashodi_detalji!$B$10:$B$85,"A2203-04",Rashodi_detalji!$E$10:$E$85,"42034",Rashodi_detalji!$F$10:$F$85,"42271") -> 2407.43 | G76: =IF(D76=0,"-",F76/D76*100) -> -
A77: 45111 | B77: Dodatna ulaganja na građevinskim objektima | C77: 42034 | D77: =SUMIFS(Rashodi_detalji!$L$10:$L$85,Rashodi_detalji!$B$10:$B$85,"A2203-04",Rashodi_detalji!$E$10:$E$85,"42034",Rashodi_detalji!$F$10:$F$85,"45111") -> 11945 | E77: =F77-D77 -> 922.33 | F77: =SUMIFS(Rashodi_detalji!$N$10:$N$85,Rashodi_detalji!$B$10:$B$85,"A2203-04",Rashodi_detalji!$E$10:$E$85,"42034",Rashodi_detalji!$F$10:$F$85,"45111") -> 12867.33 | G77: =IF(D77=0,"-",F77/D77*100) -> 107.72147
A78: Izvor 5103 | B78: MZO – ostali rashodi | C78: 5103 | D78: =SUMIFS(Rashodi_detalji!$L$10:$L$85,Rashodi_detalji!$B$10:$B$85,"A2203-04",Rashodi_detalji!$E$10:$E$85,"5103") -> 3500 | E78: =F78-D78 -> 0 | F78: =SUMIFS(Rashodi_detalji!$N$10:$N$85,Rashodi_detalji!$B$10:$B$85,"A2203-04",Rashodi_detalji!$E$10:$E$85,"5103") -> 3500 | G78: =IF(D78=0,"-",F78/D78*100) -> 100
A79: 32221 | B79: Osnovni materijal i sirovine | C79: 5103 | D79: =SUMIFS(Rashodi_detalji!$L$10:$L$85,Rashodi_detalji!$B$10:$B$85,"A2203-04",Rashodi_detalji!$E$10:$E$85,"5103",Rashodi_detalji!$F$10:$F$85,"32221") -> 300 | E79: =F79-D79 -> 0 | F79: =SUMIFS(Rashodi_detalji!$N$10:$N$85,Rashodi_detalji!$B$10:$B$85,"A2203-04",Rashodi_detalji!$E$10:$E$85,"5103",Rashodi_detalji!$F$10:$F$85,"32221") -> 300 | G79: =IF(D79=0,"-",F79/D79*100) -> 100
A80: 32372 | B80: Ugovori o djelu | C80: 5103 | D80: =SUMIFS(Rashodi_detalji!$L$10:$L$85,Rashodi_detalji!$B$10:$B$85,"A2203-04",Rashodi_detalji!$E$10:$E$85,"5103",Rashodi_detalji!$F$10:$F$85,"32372") -> 200 | E80: =F80-D80 -> 0 | F80: =SUMIFS(Rashodi_detalji!$N$10:$N$85,Rashodi_detalji!$B$10:$B$85,"A2203-04",Rashodi_detalji!$E$10:$E$85,"5103",Rashodi_detalji!$F$10:$F$85,"32372") -> 200 | G80: =IF(D80=0,"-",F80/D80*100) -> 100
A81: 37221 | B81: Sufinanciranje cijene prijevoza | C81: 5103 | D81: =SUMIFS(Rashodi_detalji!$L$10:$L$85,Rashodi_detalji!$B$10:$B$85,"A2203-04",Rashodi_detalji!$E$10:$E$85,"5103",Rashodi_detalji!$F$10:$F$85,"37221") -> 3000 | E81: =F81-D81 -> 0 | F81: =SUMIFS(Rashodi_detalji!$N$10:$N$85,Rashodi_detalji!$B$10:$B$85,"A2203-04",Rashodi_detalji!$E$10:$E$85,"5103",Rashodi_detalji!$F$10:$F$85,"37221") -> 3000 | G81: =IF(D81=0,"-",F81/D81*100) -> 100
A82: Izvor 51034 | B82: MZO – udžbenici | C82: 51034 | D82: =SUMIFS(Rashodi_detalji!$L$10:$L$85,Rashodi_detalji!$B$10:$B$85,"A2203-04",Rashodi_detalji!$E$10:$E$85,"51034") -> 800 | E82: =F82-D82 -> 0 | F82: =SUMIFS(Rashodi_detalji!$N$10:$N$85,Rashodi_detalji!$B$10:$B$85,"A2203-04",Rashodi_detalji!$E$10:$E$85,"51034") -> 800 | G82: =IF(D82=0,"-",F82/D82*100) -> 100
A83: 42411 | B83: Knjige (knjižnica) | C83: 51034 | D83: =SUMIFS(Rashodi_detalji!$L$10:$L$85,Rashodi_detalji!$B$10:$B$85,"A2203-04",Rashodi_detalji!$E$10:$E$85,"51034",Rashodi_detalji!$F$10:$F$85,"42411") -> 800 | E83: =F83-D83 -> 0 | F83: =SUMIFS(Rashodi_detalji!$N$10:$N$85,Rashodi_detalji!$B$10:$B$85,"A2203-04",Rashodi_detalji!$E$10:$E$85,"51034",Rashodi_detalji!$F$10:$F$85,"42411") -> 800 | G83: =IF(D83=0,"-",F83/D83*100) -> 100
A84: Izvor 53 | B84: Proračun JLS – Grad Benkovac | C84: 53 | D84: =SUMIFS(Rashodi_detalji!$L$10:$L$85,Rashodi_detalji!$B$10:$B$85,"A2203-04",Rashodi_detalji!$E$10:$E$85,"53") -> 57606.47 | E84: =F84-D84 -> 3213.53 | F84: =SUMIFS(Rashodi_detalji!$N$10:$N$85,Rashodi_detalji!$B$10:$B$85,"A2203-04",Rashodi_detalji!$E$10:$E$85,"53") -> 60820 | G84: =IF(D84=0,"-",F84/D84*100) -> 105.57842
A85: 31111 | B85: Plaće za redovan rad | C85: 53 | D85: =SUMIFS(Rashodi_detalji!$L$10:$L$85,Rashodi_detalji!$B$10:$B$85,"A2203-04",Rashodi_detalji!$E$10:$E$85,"53",Rashodi_detalji!$F$10:$F$85,"31111") -> 14156.27 | E85: =F85-D85 -> 2843.73 | F85: =SUMIFS(Rashodi_detalji!$N$10:$N$85,Rashodi_detalji!$B$10:$B$85,"A2203-04",Rashodi_detalji!$E$10:$E$85,"53",Rashodi_detalji!$F$10:$F$85,"31111") -> 17000 | G85: =IF(D85=0,"-",F85/D85*100) -> 120.08813
A86: 31321 | B86: Doprinos za obvezno zdravstveno osiguranje | C86: 53 | D86: =SUMIFS(Rashodi_detalji!$L$10:$L$85,Rashodi_detalji!$B$10:$B$85,"A2203-04",Rashodi_detalji!$E$10:$E$85,"53",Rashodi_detalji!$F$10:$F$85,"31321") -> 2450.2 | E86: =F86-D86 -> 369.8 | F86: =SUMIFS(Rashodi_detalji!$N$10:$N$85,Rashodi_detalji!$B$10:$B$85,"A2203-04",Rashodi_detalji!$E$10:$E$85,"53",Rashodi_detalji!$F$10:$F$85,"31321") -> 2820 | G86: =IF(D86=0,"-",F86/D86*100) -> 115.09265
A87: 37229 | B87: Ostale naknade iz proračuna u naravi (radni materijal) | C87: 53 | D87: =SUMIFS(Rashodi_detalji!$L$10:$L$85,Rashodi_detalji!$B$10:$B$85,"A2203-04",Rashodi_detalji!$E$10:$E$85,"53",Rashodi_detalji!$F$10:$F$85,"37229") -> 41000 | E87: =F87-D87 -> 0 | F87: =SUMIFS(Rashodi_detalji!$N$10:$N$85,Rashodi_detalji!$B$10:$B$85,"A2203-04",Rashodi_detalji!$E$10:$E$85,"53",Rashodi_detalji!$F$10:$F$85,"37229") -> 41000 | G87: =IF(D87=0,"-",F87/D87*100) -> 100
A88: A2203-27 | B88: Udžbenici (funkcija 0960) | D88: =SUMIFS(Rashodi_detalji!$L$10:$L$85,Rashodi_detalji!$B$10:$B$85,"A2203-27") -> 31000 | E88: =F88-D88 -> 31055.8 | F88: =SUMIFS(Rashodi_detalji!$N$10:$N$85,Rashodi_detalji!$B$10:$B$85,"A2203-27") -> 62055.8 | G88: =IF(D88=0,"-",F88/D88*100) -> 200.18
A89: Izvor 42034 | B89: Višak prihoda OŠ | C89: 42034 | D89: =SUMIFS(Rashodi_detalji!$L$10:$L$85,Rashodi_detalji!$B$10:$B$85,"A2203-27",Rashodi_detalji!$E$10:$E$85,"42034") -> 0 | E89: =F89-D89 -> 31055.8 | F89: =SUMIFS(Rashodi_detalji!$N$10:$N$85,Rashodi_detalji!$B$10:$B$85,"A2203-27",Rashodi_detalji!$E$10:$E$85,"42034") -> 31055.8 | G89: =IF(D89=0,"-",F89/D89*100) -> -
A90: 42411 | B90: Knjige (udžbenici) | C90: 42034 | D90: =SUMIFS(Rashodi_detalji!$L$10:$L$85,Rashodi_detalji!$B$10:$B$85,"A2203-27",Rashodi_detalji!$E$10:$E$85,"42034",Rashodi_detalji!$F$10:$F$85,"42411") -> 0 | E90: =F90-D90 -> 31055.8 | F90: =SUMIFS(Rashodi_detalji!$N$10:$N$85,Rashodi_detalji!$B$10:$B$85,"A2203-27",Rashodi_detalji!$E$10:$E$85,"42034",Rashodi_detalji!$F$10:$F$85,"42411") -> 31055.8 | G90: =IF(D90=0,"-",F90/D90*100) -> -
A91: Izvor 51034 | B91: MZO – udžbenici | C91: 51034 | D91: =SUMIFS(Rashodi_detalji!$L$10:$L$85,Rashodi_detalji!$B$10:$B$85,"A2203-27",Rashodi_detalji!$E$10:$E$85,"51034") -> 31000 | E91: =F91-D91 -> 0 | F91: =SUMIFS(Rashodi_detalji!$N$10:$N$85,Rashodi_detalji!$B$10:$B$85,"A2203-27",Rashodi_detalji!$E$10:$E$85,"51034") -> 31000 | G91: =IF(D91=0,"-",F91/D91*100) -> 100
A92: 42411 | B92: Knjige (udžbenici) | C92: 51034 | D92: =SUMIFS(Rashodi_detalji!$L$10:$L$85,Rashodi_detalji!$B$10:$B$85,"A2203-27",Rashodi_detalji!$E$10:$E$85,"51034",Rashodi_detalji!$F$10:$F$85,"42411") -> 31000 | E92: =F92-D92 -> 0 | F92: =SUMIFS(Rashodi_detalji!$N$10:$N$85,Rashodi_detalji!$B$10:$B$85,"A2203-27",Rashodi_detalji!$E$10:$E$85,"51034",Rashodi_detalji!$F$10:$F$85,"42411") -> 31000 | G92: =IF(D92=0,"-",F92/D92*100) -> 100
A93: A2203-33 | B93: Prehrana za učenike (funkcija 0912) | D93: =SUMIFS(Rashodi_detalji!$L$10:$L$85,Rashodi_detalji!$B$10:$B$85,"A2203-33") -> 100000 | E93: =F93-D93 -> 0 | F93: =SUMIFS(Rashodi_detalji!$N$10:$N$85,Rashodi_detalji!$B$10:$B$85,"A2203-33") -> 100000 | G93: =IF(D93=0,"-",F93/D93*100) -> 100
A94: Izvor 510391 | B94: MZO – prehrana za učenike | C94: 510391 | D94: =SUMIFS(Rashodi_detalji!$L$10:$L$85,Rashodi_detalji!$B$10:$B$85,"A2203-33",Rashodi_detalji!$E$10:$E$85,"510391") -> 100000 | E94: =F94-D94 -> 0 | F94: =SUMIFS(Rashodi_detalji!$N$10:$N$85,Rashodi_detalji!$B$10:$B$85,"A2203-33",Rashodi_detalji!$E$10:$E$85,"510391") -> 100000 | G94: =IF(D94=0,"-",F94/D94*100) -> 100
A95: 32224 | B95: Namirnice | C95: 510391 | D95: =SUMIFS(Rashodi_detalji!$L$10:$L$85,Rashodi_detalji!$B$10:$B$85,"A2203-33",Rashodi_detalji!$E$10:$E$85,"510391",Rashodi_detalji!$F$10:$F$85,"32224") -> 100000 | E95: =F95-D95 -> 0 | F95: =SUMIFS(Rashodi_detalji!$N$10:$N$85,Rashodi_detalji!$B$10:$B$85,"A2203-33",Rashodi_detalji!$E$10:$E$85,"510391",Rashodi_detalji!$F$10:$F$85,"32224") -> 100000 | G95: =IF(D95=0,"-",F95/D95*100) -> 100
A96: A2203-34 | B96: Zalihe menstrualnih higijenskih potrepština (funkcija 0912) | D96: =SUMIFS(Rashodi_detalji!$L$10:$L$85,Rashodi_detalji!$B$10:$B$85,"A2203-34") -> 1360 | E96: =F96-D96 -> 0 | F96: =SUMIFS(Rashodi_detalji!$N$10:$N$85,Rashodi_detalji!$B$10:$B$85,"A2203-34") -> 1360 | G96: =IF(D96=0,"-",F96/D96*100) -> 100
A97: Izvor 511903 | B97: MRMSOSP – menstrualne hig. potrepštine | C97: 511903 | D97: =SUMIFS(Rashodi_detalji!$L$10:$L$85,Rashodi_detalji!$B$10:$B$85,"A2203-34",Rashodi_detalji!$E$10:$E$85,"511903") -> 1360 | E97: =F97-D97 -> 0 | F97: =SUMIFS(Rashodi_detalji!$N$10:$N$85,Rashodi_detalji!$B$10:$B$85,"A2203-34",Rashodi_detalji!$E$10:$E$85,"511903") -> 1360 | G97: =IF(D97=0,"-",F97/D97*100) -> 100
A98: 38129 | B98: Ostale tekuće donacije u naravi | C98: 511903 | D98: =SUMIFS(Rashodi_detalji!$L$10:$L$85,Rashodi_detalji!$B$10:$B$85,"A2203-34",Rashodi_detalji!$E$10:$E$85,"511903",Rashodi_detalji!$F$10:$F$85,"38129") -> 1360 | E98: =F98-D98 -> 0 | F98: =SUMIFS(Rashodi_detalji!$N$10:$N$85,Rashodi_detalji!$B$10:$B$85,"A2203-34",Rashodi_detalji!$E$10:$E$85,"511903",Rashodi_detalji!$F$10:$F$85,"38129") -> 1360 | G98: =IF(D98=0,"-",F98/D98*100) -> 100
A99: Program 4306 | B99: Nacionalni EU projekti | D99: =SUMIFS(Rashodi_detalji!$L$10:$L$85,Rashodi_detalji!$A$10:$A$85,"4306") -> 103916.86 | E99: =F99-D99 -> -5828.49 | F99: =SUMIFS(Rashodi_detalji!$N$10:$N$85,Rashodi_detalji!$A$10:$A$85,"4306") -> 98088.37 | G99: =IF(D99=0,"-",F99/D99*100) -> 94.391199
A100: T4306-03 | B100: Inkluzija – korak bliže društvu bez prepreka 2023./2024. (funkcija 0912) | D100: =SUMIFS(Rashodi_detalji!$L$10:$L$85,Rashodi_detalji!$B$10:$B$85,"T4306-03") -> 103916.86 | E100: =F100-D100 -> -5828.49 | F100: =SUMIFS(Rashodi_detalji!$N$10:$N$85,Rashodi_detalji!$B$10:$B$85,"T4306-03") -> 98088.37 | G100: =IF(D100=0,"-",F100/D100*100) -> 94.391199
A101: Izvor 110 | B101: Opći prihodi i primici – Zadarska županija | C101: 110 | D101: =SUMIFS(Rashodi_detalji!$L$10:$L$85,Rashodi_detalji!$B$10:$B$85,"T4306-03",Rashodi_detalji!$E$10:$E$85,"110") -> 40209.84 | E101: =F101-D101 -> 6790.16 | F101: =SUMIFS(Rashodi_detalji!$N$10:$N$85,Rashodi_detalji!$B$10:$B$85,"T4306-03",Rashodi_detalji!$E$10:$E$85,"110") -> 47000 | G101: =IF(D101=0,"-",F101/D101*100) -> 116.88681
A102: 31111 | B102: Plaće za redovan rad | C102: 110 | D102: =SUMIFS(Rashodi_detalji!$L$10:$L$85,Rashodi_detalji!$B$10:$B$85,"T4306-03",Rashodi_detalji!$E$10:$E$85,"110",Rashodi_detalji!$F$10:$F$85,"31111") -> 18426.43 | E102: =F102-D102 -> 1573.57 | F102: =SUMIFS(Rashodi_detalji!$N$10:$N$85,Rashodi_detalji!$B$10:$B$85,"T4306-03",Rashodi_detalji!$E$10:$E$85,"110",Rashodi_detalji!$F$10:$F$85,"31111") -> 20000 | G102: =IF(D102=0,"-",F102/D102*100) -> 108.53974
...

Sheet Rashodi_detalji
A1: REPUBLIKA HRVATSKA
A2: ZADARSKA ŽUPANIJA
A3: OSNOVNA ŠKOLA BENKOVAC, Antuna Mihanovića 21b, 23420 Benkovac
A4: OIB: 73294343358 · RKP: 21238
A6: RASHODI I IZDACI – DETALJNI PODACI PO KONTIMA
A7: Izvor podataka: Financijski plan 2024.–2026. (izvorni plan) i Prijedlog I. rebalansa 2024. – račun rashoda i izdataka (stupac Rebalans 1)
A9: Program | B9: Aktivnost/projekt | C9: Funkcija | D9: Izvor (grupa) | E9: Izvor | F9: Konto | G9: Razred | H9: Skupina | I9: Podskupina | J9: Odjeljak | K9: Opis | L9: Izvorni plan 2024. | M9: Povećanje/ smanjenje | N9: I. rebalans 2024. | O9: Indeks (rebalans / plan)
A10: 2202 | B10: A2202-01 | C10: 0912 | D10: 45 | E10: 451 | F10: 32111 | G10: =LEFT(F10,1) -> 3 | H10: =LEFT(F10,2) -> 32 | I10: =LEFT(F10,3) -> 321 | J10: =LEFT(F10,4) -> 3211 | K10: Dnevnice za službeni put u zemlji | L10: 3000 | M10: =N10-L10 -> 500 | N10: 3500 | O10: =IF(L10=0,"-",N10/L10*100) -> 116.66667
A11: 2202 | B11: A2202-01 | C11: 0912 | D11: 45 | E11: 451 | F11: 32131 | G11: =LEFT(F11,1) -> 3 | H11: =LEFT(F11,2) -> 32 | I11: =LEFT(F11,3) -> 321 | J11: =LEFT(F11,4) -> 3213 | K11: Seminari, savjetovanja | L11: 800 | M11: =N11-L11 -> 0 | N11: 800 | O11: =IF(L11=0,"-",N11/L11*100) -> 100
A12: 2202 | B12: A2202-01 | C12: 0912 | D12: 45 | E12: 451 | F12: 32149 | G12: =LEFT(F12,1) -> 3 | H12: =LEFT(F12,2) -> 32 | I12: =LEFT(F12,3) -> 321 | J12: =LEFT(F12,4) -> 3214 | K12: Ostale naknade troškova zaposlenima | L12: 0 | M12: =N12-L12 -> 1000 | N12: 1000 | O12: =IF(L12=0,"-",N12/L12*100) -> -
A13: 2202 | B13: A2202-01 | C13: 0912 | D13: 45 | E13: 451 | F13: 32211 | G13: =LEFT(F13,1) -> 3 | H13: =LEFT(F13,2) -> 32 | I13: =LEFT(F13,3) -> 322 | J13: =LEFT(F13,4) -> 3221 | K13: Uredski materijal | L13: 7000 | M13: =N13-L13 -> 500 | N13: 7500 | O13: =IF(L13=0,"-",N13/L13*100) -> 107.14286
A14: 2202 | B14: A2202-01 | C14: 0912 | D14: 45 | E14: 451 | F14: 32221 | G14: =LEFT(F14,1) -> 3 | H14: =LEFT(F14,2) -> 32 | I14: =LEFT(F14,3) -> 322 | J14: =LEFT(F14,4) -> 3222 | K14: Osnovni materijal i sirovine | L14: 2000 | M14: =N14-L14 -> -500 | N14: 1500 | O14: =IF(L14=0,"-",N14/L14*100) -> 75
A15: 2202 | B15: A2202-01 | C15: 0912 | D15: 45 | E15: 451 | F15: 32231 | G15: =LEFT(F15,1) -> 3 | H15: =LEFT(F15,2) -> 32 | I15: =LEFT(F15,3) -> 322 | J15: =LEFT(F15,4) -> 3223 | K15: Električna energija | L15: 25000 | M15: =N15-L15 -> -3010.5 | N15: 21989.5 | O15: =IF(L15=0,"-",N15/L15*100) -> 87.958
A16: 2202 | B16: A2202-01 | C16: 0912 | D16: 45 | E16: 451 | F16: 32234 | G16: =LEFT(F16,1) -> 3 | H16: =LEFT(F16,2) -> 32 | I16: =LEFT(F16,3) -> 322 | J16: =LEFT(F16,4) -> 3223 | K16: Motorni benzin i dizel gorivo | L16: 50000 | M16: =N16-L16 -> -13824.55 | N16: 36175.45 | O16: =IF(L16=0,"-",N16/L16*100) -> 72.3509
A17: 2202 | B17: A2202-01 | C17: 0912 | D17: 45 | E17: 451 | F17: 32241 | G17: =LEFT(F17,1) -> 3 | H17: =LEFT(F17,2) -> 32 | I17: =LEFT(F17,3) -> 322 | J17: =LEFT(F17,4) -> 3224 | K17: Materijal i dijelovi za tekuće i inv. održavanje građ. objekata | L17: 3404 | M17: =N17-L17 -> -404 | N17: 3000 | O17: =IF(L17=0,"-",N17/L17*100) -> 88.13161
A18: 2202 | B18: A2202-01 | C18: 0912 | D18: 45 | E18: 451 | F18: 32251 | G18: =LEFT(F18,1) -> 3 | H18: =LEFT(F18,2) -> 32 | I18: =LEFT(F18,3) -> 322 | J18: =LEFT(F18,4) -> 3225 | K18: Sitni inventar | L18: 0 | M18: =N18-L18 -> 500 | N18: 500 | O18: =IF(L18=0,"-",N18/L18*100) -> -
A19: 2202 | B19: A2202-01 | C19: 0912 | D19: 45 | E19: 451 | F19: 32271 | G19: =LEFT(F19,1) -> 3 | H19: =LEFT(F19,2) -> 32 | I19: =LEFT(F19,3) -> 322 | J19: =LEFT(F19,4) -> 3227 | K19: Službena, radna i zaštitna odjeća i obuća | L19: 1500 | M19: =N19-L19 -> 0 | N19: 1500 | O19: =IF(L19=0,"-",N19/L19*100) -> 100
A20: 2202 | B20: A2202-01 | C20: 0912 | D20: 45 | E20: 451 | F20: 32311 | G20: =LEFT(F20,1) -> 3 | H20: =LEFT(F20,2) -> 32 | I20: =LEFT(F20,3) -> 323 | J20: =LEFT(F20,4) -> 3231 | K20: Usluge telefona, telefaksa | L20: 2500 | M20: =N20-L20 -> -300 | N20: 2200 | O20: =IF(L20=0,"-",N20/L20*100) -> 88
A21: 2202 | B21: A2202-01 | C21: 0912 | D21: 45 | E21: 451 | F21: 32321 | G21: =LEFT(F21,1) -> 3 | H21: =LEFT(F21,2) -> 32 | I21: =LEFT(F21,3) -> 323 | J21: =LEFT(F21,4) -> 3232 | K21: Usluge tekućeg i inv. održavanja građ. objekata | L21: 2500 | M21: =N21-L21 -> 4496.05 | N21: 6996.05 | O21: =IF(L21=0,"-",N21/L21*100) -> 279.842
... A85: 4306 | B85: T4306-03 | C85: 0912 | D85: 54 | E85: 540099 | F85: 31321 | G85: =LEFT(F85,1) -> 3 | H85: =LEFT(F85,2) -> 31 | I85: =LEFT(F85,3) -> 313 | J85: =LEFT(F85,4) -> 3132 | K85: Doprinos za obvezno zdravstveno osiguranje | L85: 1607.52 | M85: =N85-L85 -> 0 | N85: 1607.52 | O85: =IF(L85=0,"-",N85/L85*100) -> 100
K86: UKUPNO RASHODI | L86: =SUM(L10:L85) -> 2927619.6 | M86: =SUM(M10:M85) -> 361810.42 | N86: =SUM(N10:N85) -> 3289430 | O86: =IF(L86=0,"-",N86/L86*100) -> 112.35852

Sheet Prihodi_detalji
A1: REPUBLIKA HRVATSKA
A2: ZADARSKA ŽUPANIJA
A3: OSNOVNA ŠKOLA BENKOVAC, Antuna Mihanovića 21b, 23420 Benkovac
A4: OIB: 73294343358 · RKP: 21238
A6: PRIHODI I PRIMICI – DETALJNI PODACI PO KONTIMA
A7: Izvor podataka: Financijski plan 2024.–2026. i Prijedlog I. rebalansa 2024. – račun prihoda i primitaka
A9: Konto (analitika) | B9: Razred | C9: Skupina | D9: Podskupina | E9: Odjeljak | F9: Izvor (grupa) | G9: Izvor | H9: Opis izvora | I9: Opis | J9: Izvorni plan 2024. | K9: Povećanje/ smanjenje | L9: I. rebalans 2024. | M9: Indeks (rebalans / plan)
A10: 63311343101 | B10: =LEFT(A10,1) -> 6 | C10: =LEFT(A10,2) -> 63 | D10: =LEFT(A10,3) -> 633 | E10: =LEFT(A10,4) -> 6331 | F10: 51 | G10: 51038 | H10: MZO – Inkluzija | I10: MZO – Inkluzija 2023./2024. OŠ | J10: 9745.31 | K10: =L10-J10 -> -9745.31 | L10: 0 | M10: =IF(J10=0,"-",L10/J10*100) -> 0
A11: 6361211 | B11: =LEFT(A11,1) -> 6 | C11: =LEFT(A11,2) -> 63 | D11: =LEFT(A11,3) -> 636 | E11: =LEFT(A11,4) -> 6361 | F11: 51 | G11: 5103 | H11: MZO – ostali rashodi | I11: MZO – tekuće pomoći OŠ | J11: 3500 | K11: =L11-J11 -> 0 | L11: 3500 | M11: =IF(J11=0,"-",L11/J11*100) -> 100
A12: 636123401 | B12: =LEFT(A12,1) -> 6 | C12: =LEFT(A12,2) -> 63 | D12: =LEFT(A12,3) -> 636 | E12: =LEFT(A12,4) -> 6361 | F12: 51 | G12: 51035 | H12: MZO – plaće | I12: MZO – plaće zaposlenih OŠ | J12: 2109879.2 | K12: =L12-J12 -> 370270.83 | L12: 2480150 | M12: =IF(J12=0,"-",L12/J12*100) -> 117.54939
A13: 636123432 | B13: =LEFT(A13,1) -> 6 | C13: =LEFT(A13,2) -> 63 | D13: =LEFT(A13,3) -> 636 | E13: =LEFT(A13,4) -> 6361 | F13: 51 | G13: 510391 | H13: MZO – prehrana za učenike | I13: MZO – prehrana za učenike | J13: 100000 | K13: =L13-J13 -> 0 | L13: 100000 | M13: =IF(J13=0,"-",L13/J13*100) -> 100
A14: 636123433 | B14: =LEFT(A14,1) -> 6 | C14: =LEFT(A14,2) -> 63 | D14: =LEFT(A14,3) -> 636 | E14: =LEFT(A14,4) -> 6361 | F14: 51 | G14: 511903 | H14: MRMSOSP – menstrualne hig. potrepštine | I14: MRMSOSP – zalihe menstrualnih hig. potrepština | J14: 1360 | K14: =L14-J14 -> 0 | L14: 1360 | M14: =IF(J14=0,"-",L14/J14*100) -> 100
A15: 6361311 | B15: =LEFT(A15,1) -> 6 | C15: =LEFT(A15,2) -> 63 | D15: =LEFT(A15,3) -> 636 | E15: =LEFT(A15,4) -> 6361 | F15: 53 | G15: 53 | H15: Proračun JLS – Grad Benkovac | I15: Grad Benkovac – tekuće pomoći OŠ | J15: 57606.47 | K15: =L15-J15 -> 3213.53 | L15: 60820 | M15: =IF(J15=0,"-",L15/J15*100) -> 105.57842
A16: 63622340101 | B16: =LEFT(A16,1) -> 6 | C16: =LEFT(A16,2) -> 63 | D16: =LEFT(A16,3) -> 636 | E16: =LEFT(A16,4) -> 6362 | F16: 51 | G16: 51034 | H16: MZO – udžbenici | I16: MZO – udžbenici OŠ (kapitalne pomoći) | J16: 31800 | K16: =L16-J16 -> 0 | L16: 31800 | M16: =IF(J16=0,"-",L16/J16*100) -> 100
A17: 63811343202 | B17: =LEFT(A17,1) -> 6 | C17: =LEFT(A17,2) -> 63 | D17: =LEFT(A17,3) -> 638 | E17: =LEFT(A17,4) -> 6381 | F17: 54 | G17: 540099 | H17: EU – Inkluzija, korak bliže društvu bez prepreka | I17: MZO – projekt Inkluzija OŠ 2023./2024. (EU) | J17: 35612.16 | K17: =L17-J17 -> -35612.16 | L17: 0 | M17: =IF(J17=0,"-",L17/J17*100) -> 0
A18: 63911 | B18: =LEFT(A18,1) -> 6 | C18: =LEFT(A18,2) -> 63 | D18: =LEFT(A18,3) -> 639 | E18: =LEFT(A18,4) -> 6391 | F18: 51 | G18: 51038 | H18: MZO – Inkluzija | I18: Tekući prijenosi između PK istog proračuna (Inkluzija) | J18: 0 | K18: =L18-J18 -> 15476.21 | L18: 15476.21 | M18: =IF(J18=0,"-",L18/J18*100) -> -
A19: 63931 | B19: =LEFT(A19,1) -> 6 | C19: =LEFT(A19,2) -> 63 | D19: =LEFT(A19,3) -> 639 | E19: =LEFT(A19,4) -> 6393 | F19: 54 | G19: 540099 | H19: EU – Inkluzija, korak bliže društvu bez prepreka | I19: Tekući prijenosi između PK – prijenos EU sredstava (Inkluzija) | J19: 0 | K19: =L19-J19 -> 35612.16 | L19: 35612.16 | M19: =IF(J19=0,"-",L19/J19*100) -> -
A20: 652682 | B20: =LEFT(A20,1) -> 6 | C20: =LEFT(A20,2) -> 65 | D20: =LEFT(A20,3) -> 652 | E20: =LEFT(A20,4) -> 6526 | F20: 41 | G20: 41 | H20: Prihodi za posebne namjene | I20: Prihodi za posebne namjene – OŠ | J20: 11100 | K20: =L20-J20 -> 6550 | L20: 17650 | M20: =IF(J20=0,"-",L20/J20*100) -> 159.00901
A21: 661521 | B21: =LEFT(A21,1) -> 6 | C21: =LEFT(A21,2) -> 66 | D21: =LEFT(A21,3) -> 661 | E21: =LEFT(A21,4) -> 6615 | F21: 31 | G21: 31 | H21: Vlastiti prihodi – korisnici | I21: Prihodi od pruženih usluga – OŠ | J21: 21748.07 | K21: =L21-J21 -> -200 | L21: 21548.07 | M21: =IF(J21=0,"-",L21/J21*100) -> 99.080378
... A25: 922111301 | B25: =LEFT(A25,1) -> 9 | C25: =LEFT(A25,2) -> 92 | D25: =LEFT(A25,3) -> 922 | E25: =LEFT(A25,4) -> 9221 | F25: 42 | G25: 42034 | H25: Višak prihoda OŠ | I25: Višak prihoda iz prethodnih godina | J25: 21125 | K25: =L25-J25 -> 32957.53 | L25: 54082.53 | M25: =IF(J25=0,"-",L25/J25*100) -> 256.01198
I26: UKUPNO PRIHODI I PRIMICI | J26: =SUM(J10:J25) -> 2927619.6 | K26: =SUM(K10:K25) -> 361810.42 | L26: =SUM(L10:L25) -> 3289430 | M26: =IF(J26=0,"-",L26/J26*100) -> 112.35852
